{"text_format":"1","workbook":"xlsx","n_sheets":11,"sheets":["Introduction","Editing log","Birds","Mammals","Seed Treatment new","Foraging Area Approach","species","species Seed Treatment 2","diets","PD Wood mouse","PD Skylark"],"not_rendered":{"charts":0,"images":0,"macros":1,"external_links":1,"defined_names":19,"comments":7,"pivot_tables":0},"unopened":[],"bounds":{"document_bytes":16777216,"sheet_cells":100000,"rows_first":2000,"rows_last":500,"rows_between":2000,"halvings":0,"cell_chars":16384,"cell_head_chars":4096},"cells_cut":0,"cells_raw":0,"read":"whole","date_system":"1900"}

{"sheet":"Introduction","index":0,"n_rows":87,"n_cols":2,"rows_kept":87,"cut":false,"hidden":false,"merged":[]}
["Introduction to the Northern Zone Birds & Mammals calculator tool"]
[]
["This calculator tool has been developed as a supplement to the document \"Pesticide risk assessment for birds and mammals\"."]
["The aim of the document is to present standard scenarios for higher tier risk assessment in the Nordic Zone."]
["The scenarios shall be used whenever the standard tier 1 scenarios (EFSA calculator tool) do not indicate safe use."]
[]
["All values for RUD, energy and moisture content, assimilation efficiency etc. used in the calculations are from Appendices J and G of the EFSA Guidance Document (EFSA Journal 2023: 21(2):7790)."]
["NB!  Please notice that the spreadsheets \"species\", \"species Seed Treatment 2\" and \"diets\" are used as reference data sheets in the calculations and that NO CHANGES should be made to these sheets."]
[]
["Please follow the steps below when using the calculator tool. Further guidance is provided as comments (tip texts) to selected fields in the spreadsheets."]
[]
["Risk assessment for sprayed compounds:"]
[]
["Step 0","Risk assessment for sprayed compounds is performed using the \"Birds\" and \"Mammals\" spreadsheets."]
[]
["Step 1","Please enter basic data on substance, use, toxicity etc."]
[]
["Step 2","In cell C11 please select \"Y\" if the fTWA can be used in the long term risk assessment or \"N\" if the fTWA cannot be used."]
[]
["Step 3","Select a focal species that is appropriate for the crop, application scenario and growth stage in question, based upon the summary tables in chapter 7 and the relevant species accounts in chapter 6 of the document (or new summary table 6.1 for additional crop groups)."]
[null,"When a species is selected in the spreadsheet, a species-specific body weight is shown and a corresponding Daily Energy Expenditure is calculated, based upon an allometric relationship between body weight and DEE."]
[]
["Step 4","Select a diet that is appropriate for the species, crop and time period in question. Please refer to the species accounts (paragraph \"risk assessment\") in chapter 6 of the document for further guidance on this subject."]
[null,"The proportion of diet made up by each food type shall be entered into the \"PD\" column. Please remember indicating (by selection) whether the entered diet is measured as fresh weight or dry weight"]
[null,"(notice that volume % is considered equivalent to fresh weight %)."]
[]
["Step 5","In the \"MAF estimation\" tab calculate the MAFrepro and MAFvar and add the in cells H8 and H9 respectively."]
[]
["Step 6","Enter the length of the TWA period (default is 21 days; longer periods are not accepted). MAF x twa is calculated automatically using a moving time window in accordance with paragraph 6.2.5.3 in EFSA 2023."]
[null,"MAF acute is automatically calculated"]
[null,"Replace the default deposition factor, dehusking factor, PT, DT50 and RUD values by case-specific values, if considered appropriate. See tip texts and chapter 4 of the document for further guidance."]
[null,"If different PT values are to be used for acute and reproductive risk assessment, the table must be copied (Step 5)."]
[]
["Step 7","Copying the table allows you to make similar calculations for other diets of a specific focal species, e.g. for other months. This is required whenever the product may be applied during an extended time period. Calculations must cover the whole period and all growth stages where applications may be performed. "]
[null,"Please be aware that the calculations in the copied tables will change when the input for the main table above is changed (e.g. focal species, use rate)."]
[]
["Step 8","Copying the whole spreadsheet allows you to repeat the calculations for another species or another use of the product."]
[]
["Step 9","The \"Create print table\" facility opens a dialogue which allows you to summarize the results in a format suitable for printing or copying into a report."]
[null,"Please tick the columns you want to include in a summary table. The table opens in a new spreadsheet immediately before the current sheet."]
[]
["Risk assessment for seed treatments:"]
[]
["Step 0","Risk assessment for seed treatment compounds is performed using the \"Seed Treatment new\" spreadsheet."]
[]
["Step 1","Please enter basic data on substance, use and toxicity."]
[]
["Step 2","Select a relevant granivorous focal species from the summary tables in chapter 7 and the species accounts in chapter 6 of the document (please notice that wood mouse is the only relevant mammal species to consider)."]
[null,"When a species is selected in the spreadsheet, a species-specific body weight is shown. Please notice that the calculation of daily intake (next step) refers to a specific body weight."]
[]
["Step 3","Enter the daily intake of treated seed for the species in question, based upon the species-specific information (paragraph \"risk assessment\") in chapter 6 of the document."]
[]
["Step 4","If deemed appropriate (and duly justified) the default dehusking factor and PT value (1) may be replaced by case-specific values."]
[]
["Step 5","Enter a compound-specific DT50 value (if available) for estimation of a TWA factor."]
[]
["Step 6","Copying the whole spreadsheet allows you to repeat the calculations for another species or another use of the product."]
[]
["Step 7","The \"Create print table\" facility opens a dialogue which allows you to summarize the results in a format suitable for printing or copying into a report."]
[null,"Please tick the columns you want to include in a summary table. The table opens in a new spreadsheet immediately before the current sheet."]
[]
["Risk assessment for seed treatments (systemic compounds) distributed to green parts of plant:"]
[]
["Step 0","Risk assessment is performed in the same way as for sprayed compounds (i.e., using the \"Birds\" and \"Mammals\" spreadsheets) with the following modifications:"]
[]
["Step 1","Application rate shall be set to zero and the number of applications to 1."]
[]
["Step 2","Depending on the intended use of the product, exposure may occur as \"cereal shoots\" or \"leafy crops\". The estimated concentration of a.s. (mg/kg) in the food type in question"]
[null,"(estimated as seed treatment rate / 5 or as measured concentrations) shall be entered directly into the corresponding \"C acute\" field (to the right of the main table)."]
[null,"\"C repro\" shall be calculated as C acute x MAFtwa."]
[null,"Deposition factor and MAF acute shall be set to 1. Default values for PT (1), DT50 (10 days) and length of TWA period (21 days) may be replaced if considered appropriate."]
[]
["Foraging area approach: determination of search area"]
[]
["Step 0","Search area is determined using the \"Foraging Area Approach\" spreadsheet."]
[]
["Step 1","Please enter basic data on substance, use, toxicity, and drilling information."]
[]
["Step 2","Select a relevant granivorous focal species from the summary tables in chapter 7 and the species accounts in chapter 6 of the document (please notice that wood mouse is the only relevant mammal species to consider)."]
[null,"When a species is selected in the spreadsheet, a species-specific body weight is shown. "]
[]
["Step 3","Enter a compound-specific DT50 value (if available) for estimation of a TWA factor. "]
[]
["Step 4","Copying the whole spreadsheet allows you to repeat the calculations for another species or another use of the product."]
[]
["Step 5","The \"Create print table\" facility opens a dialogue which allows you to summarize the results in a format suitable for printing or copying into a report."]
[null,"Please tick the columns you want to include in a summary table. The table opens in a new spreadsheet immediately before the current sheet."]

{"sheet":"Editing log","index":1,"n_rows":7,"n_cols":3,"rows_kept":7,"cut":false,"hidden":false,"merged":[]}
["Date","Issue","File name"]
["2015-01-15","A calculation error was corrected, that appeared when the ‘copy table’ button was used","Bird mammal scenario template v10-2.xlsm"]
["2016-01-07","MAFm calculator and editing log included on separate sheets","Bird mammal scenario template v10-3.xlsm"]
["2016-04-26","Included PD for skylark and wood mouse as individual 'look up' sheets (from Appendix 2 & 4 of GD). Changes have no implications on TER calculations.","Bird mammal scenario template v10-4.xlsm"]
["2017-04-17","A bug affecting the copying of MAF90 values was fixed. 'MAF estimation' sheet amended to include estimation of MAF90. Editorial corrections to tip texts etc.","Bird mammal scenario template v10-5.xlsm"]
["2020-04-14","Focal species for forestry use/Christmas trees included; foraging area approach added; species dropdown split into species for seed treatment and other; print table button for seed treatment. Editorial corrections to tip texts and introduction","Bird mammal scenario template v10-6_RIFCON_4.xlsm"]
["2026-01-15","The calculator tool has been updated to be inline with Version 2.2 of the Northern Zone guidance document  \"Pesticide risk assessment for birds and mammals- Selection of relevant species and development of standard scenarios for higher tier risk assessment in the Northern Zone in accordance with Regulation EC 1107/2009","bird-mammal-scenario-template-v21.xlsm"]

{"sheet":"Birds","index":2,"n_rows":89,"n_cols":36,"rows_kept":89,"cut":false,"hidden":false,"merged":[[2,4,2,5]]}
["Birds","Standard higher tier risk assessment for birds"]
[null,null,null,null,null,null,null,null,null,null,null,null,null,null,null,null,null,null,null,null,null,null,null,null,null,null,null,null,null,null,null,null,null,null,null,"Y"]
[null,"Responsible","NN","Date","dd-mm-yyyy",null,"RED fields in bold shall always be filled in manually",null,null,null,null,null,null,null,null,null,null,null,null,null,null,null,null,null,null,null,null,null,null,null,null,null,null,null,null,"N"]
[null,null,null,null,null,null,"Other RED fields are also to be filled in manually but may be left at their default values"]
[null,"Active substance","substance",null,null,null,"GREEN fields are filled in automatically but may be replaced"]
[null,"Plant protection product","product",null,null,null,"BLUE fields are filled in automatically and should NOT be replaced"]
[null,"Use","crop (group)"]
[null,"Application rate",0.1,"kg a.s./ha",null,null,"MAFrepro",{"$f":"((1-EXP(-C$9*H$10*C$10))/(1-EXP(-H$10*C$10)))","v":1.5},null,"MAF repro and MAFvar are automatically calculated and are necessary for the MAFacute calculation"]
[null,"No. of applications",2,null,null,null,"MAFvar",{"$f":"((1-EXP(-2*C$9*H$10*C$10))/(1-EXP(-2*H$10*C$10)))","v":1.25}]
[null,"Interval between applications",10,"days",null,null,"k",{"$f":"(LN(2)/H$11)","v":6.9314718055994526E-2}]
[null,"Is the fTWA used in the RA? (See 6.1.4 of EFSA 2023)","Y",null,null,null,"DT50",10,"d","Please enter the DT50 of the active substance here"]
[]
[null,"Endpoints birds:"]
[null,"LD50 acute",1000,"mg/kg bw"]
[null,"NOAEL reproductive",10,"mg/kg bw/d"]
[null,null,null,null,null,null,null,null,null,null,null,null,null,null,null,"Please copy the table for further months or periods"]
[]
[null,"Species (please select):",null,18,"Body weight",{"$f":"OFFSET(species!$D$2,D18,0)","v":33},"g","DEE (kJ)",{"$f":"CalcDEE(D18,F18)","v":114.42355150097534}]
[]
[null,"Diet compos. measured as",null,1,null,null,null,"Length of TWA period",21,"days"]
[]
[0,"Month or period:"]
[null,"May"]
[]
[1,"Diet composition:",null,"PD","FIR ","Dehusk.","Depos.","PT","DT50","MAF","MAFtwa","RUD","RUD","RUD","DD","DDD",null,"FE assimilated","C acute","C repro"]
[2,null,null,"ww or dw","g ww","factor","factor",null,"days","acute",null,"90 perc.","geomean","variance","acute","repro",null,"kJ/g diet mix"]
[3,"monocot leaves",null,0.2,{"$f":"CalcFIR($D$20,$I$18,R48,ROW(D27))","v":3.0153939887363261},"--",1,1,10,{"$f":"IF($C$9=1,1,($H$8*M27+1.28*SQRT($H$9*N27))/L27)","v":1.098214063639338},{"$f":"IF($C$11=\"Y\",calctwa($C$9, $I$20,$I27,$C$10,1),$H$8)","v":0.89325168065284155},117.8,47.2,1675,{"$f":"$E27/$F$18*S27*$H27","v":1.1821223167042247},{"$f":"$E27/$F$18*T27*$H27","v":0.38525294338880667},null,{"$f":"CalcFE($D$18,D$20,ROW(D27))","v":0.6313472},{"$f":"calcc($C$8,ROW(F27:M27),TRUE)","v":12.936961669671403},{"$f":"calcc($C$8,ROW(F27:M27),FALSE)","v":4.2161479326814124}]
[4,"maize foliage",null,0.2,{"$f":"CalcFIR($D$20,$I$18,R48,ROW(D28))","v":3.0153939887363261},"--",1,{"$f":"H27","v":1},10,{"$f":"IF($C$9=1,1,($H$8*M28+1.28*SQRT($H$9*N28))/L28)","v":1.1111137416646386},{"$f":"IF($C$11=\"Y\",calctwa($C$9, $I$20,$I28,$C$10,1),$H$8)","v":0.89325168065284155},71.3,29.7,587,{"$f":"$E28/$F$18*S28*$H28","v":0.72389932795725687},0.24241551734422792,null,0.6313472,{"$f":"calcc($C$8,ROW(F28:M28),TRUE)","v":7.9222409780688734},{"$f":"calcc($C$8,ROW(F28:M28),FALSE)","v":2.6529574915389396}]
[5,"dicot leaves",null,null,{"$f":"CalcFIR($D$20,$I$18,R48,ROW(D29))","v":0},"--",1,{"$f":"H27","v":1},10,0.93630574478394502,0.89325168065284155,84.8,21.9,1058,0,{"$f":"$E29/$F$18*T29*$H29","v":0},null,0,7.9398727157678541,{"$f":"calcc($C$8,ROW(F29:M29),FALSE)","v":1.9562211806297229}]
[6,"crop seeds",null,null,{"$f":"CalcFIR($D$20,$I$18,R48,ROW(D30))","v":0},1,1,1,10,1.5254347745213011,0.89325168065284155,87,40.200000000000003,2560.36,0,{"$f":"$E30/$F$18*T30*$H30","v":0},null,0,13.271282538335321,{"$f":"calcc($C$8,ROW(F30:M30),FALSE)","v":3.5908717562244235}]
[7,"potato tubers or plant bulbs",null,0.6,{"$f":"CalcFIR($D$20,$I$18,R48,ROW(D31))","v":9.0461819662089766},"--",1,1,10,2.9310835055998652,1,1,1,1,0,{"$f":"$E31/$F$18*T31*$H31","v":0},null,0.95788559999999967,0,0]
[8,"weed seeds",null,0.24,{"$f":"CalcFIR($D$20,$I$18,R48,ROW(D32))","v":3.6184727864835908},1,1,{"$f":"H27","v":1},10,1.5254347745213011,0.89325168065284155,87,40.200000000000003,2560.36,{"$f":"$E32/$F$18*S32*$H32","v":1.4552052941424616},{"$f":"$E32/$F$18*T32*$H32","v":0.39374156756517015},null,3.7539263999999997,13.271282538335321,3.5908717562244235]
[9,"citrus fruit",null,null,{"$f":"CalcFIR($D$20,$I$18,R48,ROW(D33))","v":0},"--",1,{"$f":"H27","v":1},10,0.98901428752718135,0.89325168065284155,17,1.34,107,0,0,null,{"$f":"CalcFE($D$18,D$20,ROW(D33))","v":0},1.6813242887962085,0.11969572520748077]
[10,"fruit from cucurbitaceous vegetable crops",null,null,{"$f":"CalcFIR($D$20,$I$18,R48,ROW(D34))","v":0},"--",1,{"$f":"H27","v":1},10,2.4213933223682775,0.89325168065284155,1.4,0.47,3.52,0,0,null,0,0.3389950651315588,4.1982828990683556E-2]
[11,"fruit from solanaceous vegetable crops",null,null,{"$f":"CalcFIR($D$20,$I$18,R48,ROW(D35))","v":0},"--",1,{"$f":"H27","v":1},10,1.1300445174668776,0.89325168065284155,2.52,0.73,1.5,0,0,null,0,0.28477121840165315,6.5207372687657431E-2]
[12,"pome fruit",null,null,{"$f":"CalcFIR($D$20,$I$18,R48,ROW(D36))","v":0},"--",1,{"$f":"H27","v":1},10,1.0755004335713207,0.89325168065284155,2.87,0.97,1.3,0,0,null,0,0.30866862443496906,8.6645413023325638E-2]
[13,"stone fruit",null,null,{"$f":"CalcFIR($D$20,$I$18,R48,ROW(D37))","v":0},"--",1,{"$f":"H27","v":1},10,1.1992465086676261,0.89325168065284155,3.61,1.22,3.05,0,0,null,0,0.43292798962901297,0.10897670503964667]
[14,"fruit from small fruit crops",null,null,{"$f":"CalcFIR($D$20,$I$18,R48,ROW(D38))","v":0},"--",1,{"$f":"H27","v":1},10,1.3791804865579371,0.89325168065284155,8.8800000000000008,3.3,26,0,0,null,0,1.2247122720634482,0.29477305461543774]
[15,"strawberries",null,null,{"$f":"CalcFIR($D$20,$I$18,R48,ROW(D39))","v":0},"--",1,{"$f":"H27","v":1},10,1.5800693002818462,0.89325168065284155,2.1,0.95,1.75,0,0,null,0,0.33181455305918772,8.4858909662019949E-2]
[16,"figs",null,null,{"$f":"CalcFIR($D$20,$I$18,R48,ROW(D40))","v":0},"--",1,{"$f":"H28","v":1},10,0.98901428752718135,0.89325168065284155,17,1.34,107,0,0,null,0,1.6813242887962085,0.11969572520748077]
[17,"flower buds",null,null,{"$f":"CalcFIR($D$20,$I$18,R48,ROW(D41))","v":0},"--",1,{"$f":"H29","v":1},10,1.3791804865579371,0.89325168065284155,8.8800000000000008,3.3,26,0,0,null,0,1.2247122720634482,0.29477305461543774]
[18,"fruits from forests",null,null,{"$f":"CalcFIR($D$20,$I$18,R48,ROW(D42))","v":0},"--",1,{"$f":"H32","v":1},10,1.3791804865579371,0.89325168065284155,8.8800000000000008,3.3,26,0,0,null,0,1.2247122720634482,0.29477305461543774]
[19,"legume vegetables",null,null,{"$f":"CalcFIR($D$20,$I$18,R48,ROW(D43))","v":0},"--",1,{"$f":"H33","v":1},10,1.1300445174668776,0.89325168065284155,2.52,0.73,1.5,0,0,null,0,0.28477121840165315,6.5207372687657431E-2]
[20,"tree nuts and seeds",null,null,{"$f":"CalcFIR($D$20,$I$18,R48,ROW(D44))","v":0},"--",1,1,10,1.1992465086676261,0.89325168065284155,3.61,1.22,3.05,0,0,null,0,0.43292798962901297,0.10897670503964667]
[21,"ground dwelling arthropods",null,0.3,{"$f":"CalcFIR($D$20,$I$18,R48,ROW(D45))","v":4.5230909831044883},"--",1,1,10,1.0870930329037058,0.89325168065284155,20.2,2.8,154,0.30098126678010229,3.4280982250698887E-2,null,1.6147872000000003,2.1959279264654858,0.25011047058279562]
[22,"foliar dwelling arthropods",null,null,{"$f":"CalcFIR($D$20,$I$18,R48,ROW(D46))","v":0},"--",1,{"$f":"H36","v":1},10,1.2334048682609136,0.89325168065284155,24.8,8.4,158,0,0,null,0,3.0588440732870663,0.75033141174838702]
[23,"soil invertebrates",null,null,{"$f":"CalcFIR($D$20,$I$18,R48,ROW(D47))","v":0},"--",1,{"$f":"H37","v":1},10,1,1,1,1,1,0,0,null,0,0,0,"please replace zeros with PECearthworm when necessary"]
[null,"Total",null,{"$f":"SUM(D27:D47)","v":1.54},{"$f":"SUM(E27:E47)","v":23.218533713269707},null,null,null,null,null,null,null,null,null,{"$f":"SUM(O27:O47)","v":3.6622082055840455},{"$f":"SUM(P27:P47)","v":1.0556910105489037},null,{"$f":"SUM(R27:R47)","v":7.5892935999999995}]
[null,null,null,"check = 1,00"]
[null,null,null,null,null,null,null,null,null,null,null,null,"TER",null,{"$f":"$C$14/ O48","v":273.0592975230694},{"$f":"$C$15/ P48","v":9.472468648568416}]
[null,null,null,null,null,null,null,null,null,null,null,null,"Trigger",null,10,5]
[]
[]
[]
[0]
[]
[]
[1]
[2]
[3]
[4]
[5]
[6]
[7]
[8]
[9]
[10]
[11]
[12]
[13]
[14]
[15]
[16]
[17]
[18]
[19]
[20]
[21]
[22]
[23]
[]
[]
[]
[]
[19]
[20]
[21]
[22]
[23]

{"sheet":"Mammals","index":3,"n_rows":51,"n_cols":37,"rows_kept":51,"cut":false,"hidden":false,"merged":[[2,4,2,5]]}
["Mammals","Standard higher tier risk assessment for mammals"]
[null,null,null,null,null,null,null,null,null,null,null,null,null,null,null,null,null,null,null,null,null,null,null,null,null,null,null,null,null,null,null,null,null,null,null,null,"Y"]
[null,"Responsible","NN","Date","dd-mm-yyyy",null,"RED fields in bold shall always be filled in manually",null,null,null,null,null,null,null,null,null,null,null,null,null,null,null,null,null,null,null,null,null,null,null,null,null,null,null,null,null,"N"]
[null,null,null,null,null,null,"Other RED fields are also to be filled in manually but may be left at their default values"]
[null,"Active substance","substance",null,null,null,"GREEN fields are filled in automatically but may be replaced"]
[null,"Plant protection product","product",null,null,null,"BLUE fields are filled in automatically and should NOT be replaced"]
[null,"Use","crop (group)"]
[null,"Application rate",0.1,"kg a.s./ha",null,null,"MAFrepro",{"$f":"((1-EXP(-C$9*H$10*C$10))/(1-EXP(-H$10*C$10)))","v":1.75},null,null,"MAF repro and MAFvar are automatically calculated and are necessary for the MAFacute calculation"]
[null,"No. of applications",3,null,null,null,"MAFvar",{"$f":"((1-EXP(-2*C$9*H$10*C$10))/(1-EXP(-2*H$10*C$10)))","v":1.3125}]
[null,"Interval between applications",10,"days",null,null,"k",{"$f":"(LN(2)/H$11)","v":6.9314718055994526E-2}]
[null,"Is the fTWA used in the RA? (See 6.1.4 of EFSA 2023)","Y",null,null,null,"DT50",10,"d",null,"Please enter the DT50 of the active substance here"]
[]
[null,"Endpoints mammals:"]
[null,"LD50 acute",179,"mg/kg bw"]
[null,"NOAEL reproductive",10,"mg/kg bw/d"]
[null,null,null,null,null,null,null,null,null,null,null,null,null,null,null,"Please copy the table for further months or periods"]
[]
[null,"Species (please select):",2,{"$f":"C18+27","v":29},"Body weight",{"$f":"OFFSET(species!$D$2,D18,0)","v":7.4},"g","DEE (kJ)",{"$f":"CalcDEE(D18,F18)","v":27.258420044711563}]
[]
[null,"Diet compos. measured as",null,1,null,null,null,"Length of TWA period",21,"days"]
[]
[0,"Month or period:"]
[null,"May"]
[]
[1,"Diet composition:",null,"PD","FIR ","Dehusk.","Depos.","PT","DT50","MAF","MAFtwa","RUD","RUD","RUD","DD","DDD",null,"FE assimilated","C acute","C repro"]
[2,null,null,"ww or dw","g ww","factor","factor",null,"days","acute",null,"90 perc.","geomean","variance","acute","repro",null,"kJ/g diet mix"]
[3,"monocot leaves",null,7.0000000000000007E-2,{"$f":"CalcFIR($D$20,$I$18,R48,ROW(D27))","v":0.18831261927064827},"--",1,1,10,{"$f":"IF($C$9=1,1,($H$8*M27+1.28*SQRT($H$9*N27))/L27)","v":1.2106621211140525},{"$f":"IF($C$11=\"Y\",calctwa($C$9, $I$20,$I27,$C$10,1),$H$8)","v":1.1566265671814075},117.8,47.2,1675,{"$f":"$E27/$F$18*S27*$H27","v":0.36292421767940924},0.13892578729354602,null,{"$f":"CalcFE($D$18,D$20,ROW(D27))","v":0.13665344000000001},{"$f":"calcc($C$8,ROW(F27:M27),TRUE)","v":14.26159978672354},{"$f":"calcc($C$8,ROW(F27:M27),FALSE)","v":5.459277397096244}]
[4,"maize foliage",null,null,{"$f":"CalcFIR($D$20,$I$18,R48,ROW(D28))","v":0},"--",1,{"$f":"H27","v":1},10,{"$f":"IF($C$9=1,1,($H$8*M28+1.28*SQRT($H$9*N28))/L28)","v":1.2272601345861058},{"$f":"IF($C$11=\"Y\",calctwa($C$9, $I$20,$I28,$C$10,1),$H$8)","v":1.1566265671814075},71.3,29.7,587,0,0,null,0,{"$f":"calcc($C$8,ROW(F28:M28),TRUE)","v":8.7503647595989342},{"$f":"calcc($C$8,ROW(F28:M28),FALSE)","v":3.4351809045287807}]
[5,"dicot leaves",null,0.03,{"$f":"CalcFIR($D$20,$I$18,R48,ROW(D29))","v":8.0705408258849254E-2},"--",1,{"$f":"H27","v":1},10,1.0144251360882293,{"$f":"IF($C$11=\"Y\",calctwa($C$9, $I$20,$I29,$C$10,1),$H$8)","v":1.1566265671814075},84.8,21.9,1058,9.3818130206920661E-2,2.7625375984219044E-2,null,4.8294960000000046E-2,{"$f":"calcc($C$8,ROW(F29:M29),TRUE)","v":8.6023251540281844},{"$f":"calcc($C$8,ROW(F29:M29),FALSE)","v":2.5330121821272824}]
[6,"crop seeds",null,0.32,{"$f":"CalcFIR($D$20,$I$18,R48,ROW(D30))","v":0.860857688094392},1,1,{"$f":"H27","v":1},10,1.6615065017554593,{"$f":"IF($C$11=\"Y\",calctwa($C$9, $I$20,$I30,$C$10,1),$H$8)","v":1.1566265671814075},87,40.200000000000003,2560.36,{"$f":"$E30/$F$18*S30*$H30","v":1.6815931917484526},{"$f":"$E30/$F$18*T30*$H30","v":0.54090233890562234},null,4.2188697599999996,{"$f":"calcc($C$8,ROW(F30:M30),TRUE)","v":14.455106565272498},{"$f":"calcc($C$8,ROW(F30:M30),FALSE)","v":4.6496388000692592}]
[7,"potato tubers or plant bulbs",null,null,{"$f":"CalcFIR($D$20,$I$18,R48,ROW(D31))","v":0},"--",1,{"$f":"H28","v":1},10,3.2164242223858688,1,1,1,1,0,0,null,0,0,0]
[8,"weed seeds",null,0.21,{"$f":"CalcFIR($D$20,$I$18,R48,ROW(D32))","v":0.56493785781194472},1,1,{"$f":"H27","v":1},10,1.6615065017554593,{"$f":"IF($C$11=\"Y\",calctwa($C$9, $I$20,$I32,$C$10,1),$H$8)","v":1.1566265671814075},87,40.200000000000003,2560.36,{"$f":"$E32/$F$18*S32*$H32","v":1.1035455320849219},0.3549671599068146,null,3.4489198799999996,{"$f":"calcc($C$8,ROW(F32:M32),TRUE)","v":14.455106565272498},{"$f":"calcc($C$8,ROW(F32:M32),FALSE)","v":4.6496388000692592}]
[9,"citrus fruit",null,null,{"$f":"CalcFIR($D$20,$I$18,R48,ROW(D33))","v":0},"--",1,{"$f":"H27","v":1},10,1.0302241238205239,{"$f":"IF($C$11=\"Y\",calctwa($C$9, $I$20,$I33,$C$10,1),$H$8)","v":1.1566265671814075},17,1.34,107,0,0,null,0,1.7513810104948908,0.15498796000230863]
[10,"fruit from cucurbitaceous vegetable crops",null,null,{"$f":"CalcFIR($D$20,$I$18,R48,ROW(D34))","v":0},"--",1,{"$f":"H27","v":1},10,2.5526826523615709,{"$f":"IF($C$11=\"Y\",calctwa($C$9, $I$20,$I34,$C$10,1),$H$8)","v":1.1566265671814075},1.4,0.47,3.52,0,{"$f":"$E34/$F$18*T34*$H34","v":0},null,0,0.35737557133061987,5.4361448657526158E-2]
[11,"fruit from solanaceous vegetable crops",null,null,{"$f":"CalcFIR($D$20,$I$18,R48,ROW(D35))","v":0},"--",1,{"$f":"H27","v":1},10,1.2196410895442429,{"$f":"IF($C$11=\"Y\",calctwa($C$9, $I$20,$I35,$C$10,1),$H$8)","v":1.1566265671814075},2.52,0.73,1.5,0,0,null,0,0.30734955456514923,8.4433739404242744E-2]
[12,"pome fruit",null,null,{"$f":"CalcFIR($D$20,$I$18,R48,ROW(D36))","v":0},"--",1,{"$f":"H27","v":1},10,1.1740351432524323,{"$f":"IF($C$11=\"Y\",calctwa($C$9, $I$20,$I36,$C$10,1),$H$8)","v":1.1566265671814075},2.87,0.97,1.3,0,0,null,0,0.33694808611344812,0.11219277701659654]
[13,"stone fruit",null,null,{"$f":"CalcFIR($D$20,$I$18,R48,ROW(D37))","v":0},"--",1,{"$f":"H28","v":1},10,1.300830970848686,{"$f":"IF($C$11=\"Y\",calctwa($C$9, $I$20,$I37,$C$10,1),$H$8)","v":1.1566265671814075},3.61,1.22,3.05,0,0,null,0,0.46959998047637563,0.14110844119613172]
[14,"fruit from small fruit crops",null,null,{"$f":"CalcFIR($D$20,$I$18,R48,ROW(D38))","v":0},"--",1,{"$f":"H29","v":1},10,1.4923790231025527,{"$f":"IF($C$11=\"Y\",calctwa($C$9, $I$20,$I38,$C$10,1),$H$8)","v":1.1566265671814075},8.8800000000000008,3.3,26,0,0,null,0,1.3252325725150669,0.38168676716986449]
[15,"strawberries",null,null,{"$f":"CalcFIR($D$20,$I$18,R48,ROW(D39))","v":0},"--",1,{"$f":"H30","v":1},10,1.7154270973700678,{"$f":"IF($C$11=\"Y\",calctwa($C$9, $I$20,$I39,$C$10,1),$H$8)","v":1.1566265671814075},2.1,0.95,1.75,0,0,null,0,0.36023969044771426,0.10987952388223372]
[16,"figs",null,null,{"$f":"CalcFIR($D$20,$I$18,R48,ROW(D40))","v":0},"--",1,{"$f":"H32","v":1},10,1.0302241238205239,{"$f":"IF($C$11=\"Y\",calctwa($C$9, $I$20,$I40,$C$10,1),$H$8)","v":1.1566265671814075},17,1.34,107,0,0,null,0,1.7513810104948908,0.15498796000230863]
[17,"flower buds",null,null,{"$f":"CalcFIR($D$20,$I$18,R48,ROW(D41))","v":0},"--",1,1,10,1.4923790231025527,{"$f":"IF($C$11=\"Y\",calctwa($C$9, $I$20,$I41,$C$10,1),$H$8)","v":1.1566265671814075},8.8800000000000008,3.3,26,0,0,null,0,1.3252325725150669,0.38168676716986449]
[18,"fruits from forests",null,null,{"$f":"CalcFIR($D$20,$I$18,R48,ROW(D42))","v":0},"--",1,1,10,1.4923790231025527,{"$f":"IF($C$11=\"Y\",calctwa($C$9, $I$20,$I42,$C$10,1),$H$8)","v":1.1566265671814075},8.8800000000000008,3.3,26,0,0,null,0,1.3252325725150669,0.38168676716986449]
[19,"legume vegetables",null,null,{"$f":"CalcFIR($D$20,$I$18,R48,ROW(D43))","v":0},"--",1,1,10,1.2196410895442429,{"$f":"IF($C$11=\"Y\",calctwa($C$9, $I$20,$I43,$C$10,1),$H$8)","v":1.1566265671814075},2.52,0.73,1.5,0,0,null,0,0.30734955456514923,8.4433739404242744E-2]
[20,"tree nuts and seeds",null,null,{"$f":"CalcFIR($D$20,$I$18,R48,ROW(D44))","v":0},"--",1,{"$f":"H27","v":1},10,1.300830970848686,{"$f":"IF($C$11=\"Y\",calctwa($C$9, $I$20,$I44,$C$10,1),$H$8)","v":1.1566265671814075},3.61,1.22,3.05,0,0,null,0,0.46959998047637563,0.14110844119613172]
[21,"ground dwelling arthropods",null,0.37,{"$f":"CalcFIR($D$20,$I$18,R48,ROW(D45))","v":0.99536670185914078},"--",1,{"$f":"H27","v":1},10,1.1434577240784431,{"$f":"IF($C$11=\"Y\",calctwa($C$9, $I$20,$I45,$C$10,1),$H$8)","v":1.1566265671814075},20.2,2.8,154,0.31068684890990067,4.3561475676789849E-2,null,2.2798245600000002,2.3097846026384552,0.32385543881079409]
[22,"foliar dwelling arthropods",null,null,{"$f":"CalcFIR($D$20,$I$18,R48,ROW(D46))","v":0},"--",1,{"$f":"H27","v":1},10,1.3359946231697895,{"$f":"IF($C$11=\"Y\",calctwa($C$9, $I$20,$I46,$C$10,1),$H$8)","v":1.1566265671814075},24.8,8.4,158,0,0,null,0,{"$f":"calcc($C$8,ROW(F46:M46),TRUE)","v":3.3132666654610783},{"$f":"calcc($C$8,ROW(F46:M46),FALSE)","v":0.97156631643238245}]
[23,"soil invertebrates",null,null,{"$f":"CalcFIR($D$20,$I$18,R48,ROW(D47))","v":0},"--",1,{"$f":"H28","v":1},10,1,1,1,1,1,0,0,null,0,0,0,"please replace zeros with PECearthworm when necessary"]
[null,"Total",null,{"$f":"SUM(D27:D47)","v":1},{"$f":"SUM(E27:E47)","v":2.6901802752949751},null,null,null,null,null,null,null,null,null,{"$f":"SUM(O27:O47)","v":3.5525679206296048},{"$f":"SUM(P27:P47)","v":1.1059821377669921},null,{"$f":"SUM(R27:R47)","v":10.132562599999998}]
[null,null,null,"check = 1,00"]
[null,null,null,null,null,null,null,null,null,null,null,null,"TER",null,{"$f":"$C$14/ O48","v":50.386088035236405},{"$f":"$C$15/ P48","v":9.0417373468528801}]
[null,null,null,null,null,null,null,null,null,null,null,null,"Trigger",null,10,5]

{"sheet":"Seed Treatment new","index":4,"n_rows":83,"n_cols":31,"rows_kept":83,"cut":false,"hidden":false,"merged":[[2,4,2,5]]}
["Birds","Standard higher tier risk assessment for birds and mammals"]
[null,null,null,null,null,null,null,null,null,null,null,null,null,null,null,null,null,null,null,null,null,null,null,null,null,null,null,null,null,null,"Y"]
[null,"Responsible","NN","Date","dd-mm-yyyy",null,"RED fields in bold shall always be filled in manually",null,null,null,null,null,null,null,null,null,null,null,null,null,null,null,null,null,null,null,null,null,null,null,"N"]
[null,null,null,null,null,null,"Other RED fields are also to be filled in manually but may be left at their default values"]
[null,"Active substance","substance",null,null,null,"GREEN fields are filled in automatically but may be replaced"]
[null,"Plant protection product","product",null,null,null,"BLUE fields are filled in automatically and should NOT be replaced"]
[null,"Use","crop (group)"]
[null,"Seed loading ",80,"mg a.s./kg seeds"]
[]
[null,"Endpoints birds:"]
[null,"LD50 acute",1000,"mg/kg bw"]
[null,"NOAEL reproductive",10,"mg/kg bw/d"]
[]
[null,"Endpoints mammals:"]
[null,"LD50 acute",2000,"mg/kg bw"]
[null,"NOAEL reproductive",10,"mg/kg bw/d",null,null,null,null,null,null,"Please copy the table for further months or periods"]
[]
[null,"Species (please select):",null,32,"Body weight",{"$f":"OFFSET('species Seed Treatment 2'!$D$2,D18,0)","v":75000},"DEE (kJ)",{"$f":"CalcDEE(D18,F18)","v":19937.412909614242}]
[]
[null,"Diet compos. measured as",null,1,null,null,"Length of TWA period",21]
[]
[0,"Month or period:"]
[null,"May"]
[]
[1,"Diet composition:",null,"PD","FIR ","Dehusk.","PT","DT50 days","fTWA","DD","DDD",null,"FE assimilated"]
[2,null,null,"ww or dw","g ww","factor",null,null,null,"acute","repro",null,"kJ/g diet mix"]
[3,"monocot leaves",null,null,{"$f":"CalcFIR($D$20,$H$18,M48,ROW(D27))","v":0},"--","--","--","--",{"$f":"0","v":0},{"$f":"0","v":0},null,{"$f":"CalcFE($D$18,D$20,ROW(D27))","v":0}]
[4,"maize foliage",null,null,{"$f":"CalcFIR($D$20,$H$18,M48,ROW(D28))","v":0},"--",{"$f":"G27","v":"--"},"--","--",{"$f":"0","v":0},{"$f":"0","v":0},null,0]
[5,"dicot leaves",null,null,{"$f":"CalcFIR($D$20,$H$18,M48,ROW(D29))","v":0},"--",{"$f":"G27","v":"--"},"--","--",{"$f":"0","v":0},{"$f":"0","v":0},null,0]
[6,"crop seeds",null,null,{"$f":"IF(OR($D$18=1,$D$18=2),225,CalcFIR($D$20,$H$18,M48,ROW(D30)))","v":0},1,1,99999,{"$f":"(1-EXP(-((LN(2)/H30)*$H$20)))/((LN(2)/H30)*$H$20)","v":0.99992722234963594},{"$f":"($C$8*E30*F30*G30)/$F$18","v":0},{"$f":"J30*I30","v":0},null,0]
[7,"potato tubers or plant bulbs",null,0.6,{"$f":"IF(OR($D$18=1,$D$18=2),225,CalcFIR($D$20,$H$18,M48,ROW(D31)))","v":4526.1636465758284},"--",1,99999,0.99992722234963594,{"$f":"($C$8*E31*G31)/$F$18","v":4.8279078896808834},{"$f":"J31*I31","v":4.8275565258884985},null,1.0579631999999994]
[8,"weed seeds",null,null,{"$f":"CalcFIR($D$20,$H$18,M48,ROW(D32))","v":0},"--",{"$f":"G27","v":"--"},"--",{"$f":"I27","v":"--"},{"$f":"0","v":0},{"$f":"0","v":0},null,0]
[9,"citrus fruit",null,null,{"$f":"CalcFIR($D$20,$H$18,M48,ROW(D33))","v":0},"--",{"$f":"G27","v":"--"},"--","--",{"$f":"0","v":0},{"$f":"0","v":0},null,0]
[10,"fruit from cucurbitaceous vegetable crops",null,null,{"$f":"CalcFIR($D$20,$H$18,M48,ROW(D34))","v":0},"--",{"$f":"G27","v":"--"},"--","--",{"$f":"0","v":0},{"$f":"0","v":0},null,0]
[11,"fruit from solanaceous vegetable crops",null,null,{"$f":"CalcFIR($D$20,$H$18,M48,ROW(D35))","v":0},"--",{"$f":"G27","v":"--"},"--","--",{"$f":"0","v":0},{"$f":"0","v":0},null,0]
[12,"pome fruit",null,null,{"$f":"CalcFIR($D$20,$H$18,M48,ROW(D36))","v":0},"--",{"$f":"G27","v":"--"},"--","--",{"$f":"0","v":0},{"$f":"0","v":0},null,0]
[13,"stone fruit",null,null,{"$f":"CalcFIR($D$20,$H$18,M48,ROW(D37))","v":0},"--",{"$f":"G27","v":"--"},"--","--",{"$f":"0","v":0},{"$f":"0","v":0},null,0]
[14,"fruit from small fruit crops",null,null,{"$f":"CalcFIR($D$20,$H$18,M48,ROW(D38))","v":0},"--",{"$f":"G27","v":"--"},"--","--",{"$f":"0","v":0},{"$f":"0","v":0},null,0]
[15,"strawberries",null,null,{"$f":"CalcFIR($D$20,$H$18,M48,ROW(D39))","v":0},"--",{"$f":"G27","v":"--"},"--","--",{"$f":"0","v":0},{"$f":"0","v":0},null,0]
[16,"figs",null,null,{"$f":"CalcFIR($D$20,$H$18,M48,ROW(D40))","v":0},"--",{"$f":"G28","v":"--"},"--","--",{"$f":"0","v":0},{"$f":"0","v":0},null,0]
[17,"flower buds",null,null,{"$f":"CalcFIR($D$20,$H$18,M48,ROW(D41))","v":0},"--",{"$f":"G29","v":"--"},"--","--",{"$f":"0","v":0},{"$f":"0","v":0},null,0]
[18,"fruits from forests",null,0.2,{"$f":"CalcFIR($D$20,$H$18,M48,ROW(D42))","v":1508.7212155252764},"--",{"$f":"G32","v":"--"},"--","--",{"$f":"0","v":0},{"$f":"0","v":0},null,0.35265439999999987]
[19,"legume vegetables",null,null,{"$f":"CalcFIR($D$20,$H$18,M48,ROW(D43))","v":0},"--","--","--","--",{"$f":"0","v":0},{"$f":"0","v":0},null,0]
[20,"tree nuts and seeds",null,null,{"$f":"CalcFIR($D$20,$H$18,M48,ROW(D44))","v":0},"--","--","--","--",{"$f":"0","v":0},{"$f":"0","v":0},null,0]
[21,"ground dwelling arthropods",null,0.2,{"$f":"CalcFIR($D$20,$H$18,M48,ROW(D45))","v":1508.7212155252764},"--","--","--","--",{"$f":"0","v":0},{"$f":"0","v":0},null,1.2323376000000004]
[22,"foliar dwelling arthropods",null,null,{"$f":"CalcFIR($D$20,$H$18,M48,ROW(D46))","v":0},"--","--","--","--",{"$f":"0","v":0},{"$f":"0","v":0},null,0]
[23,"soil invertebrates",null,null,{"$f":"CalcFIR($D$20,$H$18,M48,ROW(D47))","v":0},"--","--","--","--",{"$f":"0","v":0},{"$f":"0","v":0},null,0]
[null,"Total",null,{"$f":"SUM(D27:D47)","v":1},{"$f":"SUM(E27:E47)","v":7543.6060776263812},null,null,null,null,{"$f":"SUM(J27:J47)","v":4.8279078896808834},{"$f":"SUM(K27:K47)","v":4.8275565258884985},null,{"$f":"SUM(M27:M47)","v":2.6429551999999994}]
[null,"TER birds",null,null,null,null,null,null,null,{"$f":"IF($D$18>=31,\"not relevant\",$C$11/ J48)","v":"not relevant"},{"$f":"IF($D$18>=31,\"not relevant\",$C$12/K48)","v":"not relevant"}]
[null,"TER mammals",null,null,null,null,null,null,null,{"$f":"IF($D$18<31,\"not relevant\",$C$15/J48)","v":414.25811049021416},{"$f":"IF($D$18<31,\"not relevant\",$C$16/K48)","v":2.0714413070822673}]
[null,"Triggers ",null,null,null,null,null,null,null,10,5]
[]
[]
[]
[]
[]
[]
[0]
[]
[]
[1]
[2]
[3]
[4]
[5]
[6]
[7]
[8]
[9]
[10]
[11]
[12]
[13]
[14]
[15]
[16]
[17]
[18]
[19]
[20]
[21]
[22]
[23]

{"sheet":"Foraging Area Approach","index":5,"n_rows":40,"n_cols":13,"rows_kept":40,"cut":false,"hidden":false,"merged":[[41,1,41,3],[35,4,35,5],[35,6,35,7],[2,6,2,7],[20,6,20,7],[20,4,20,5]]}
["Foraging area approach for seed treatments"]
[]
["Responsible","NN",null,"Date",null,null,"dd-mm-yyyy",null,null,"RED fields in bold shall always be filled in manually"]
[null,null,null,null,null,null,null,null,null,"Other RED fields are also to be filled in manually but may be left at their default values"]
["Active substance","substance",null,null,null,null,null,null,null,"GREEN fields are filled in automatically but may be replaced"]
["Plant protection product","product",null,null,null,null,null,null,null,"BLUE fields are filled in automatically and should NOT be replaced"]
["Use","crop (group)"]
["Seed tmt. (mg a.s./kg seed) (NAR)",750]
["Thousand grain weight (g): 90%ile",30]
["Thousand grain weight (g): mean",27]
["Sowing density (seeds/m2)",20]
["Seeds on surface (%)",1]
[]
[]
["Endpoints birds:"]
["LD50 acute",500,"mg/kg bw"]
["NOAEL reproductive",15,"mg/kg bw/d"]
[]
["Species (please select):",null,5,null,null,null,"Body weight (g)",{"$f":"OFFSET('species Seed Treatment 2'!$D$2, C19,0)","v":490},null,null,"Length of TWA period",21,"days"]
[]
[null,"DT50","Ftwa","Dehusking factor","No. of  seeds to reach endpoint",null,"Search area (m2)"]
[null,"days",null,null,"acute","repro","acute","repro"]
[]
["Granivorous bird",9999,{"$f":"(1-EXP(-((LN(2)/B24)*$L$19)))/((LN(2)/B24)*$L$19)","v":0.99927247574780209},1,{"$f":"((($B$16/10)*$H$19)/($B$8*($B$9/1000)*$D$24))","v":1088.8888888888889},{"$f":"((($B$17/5)*$H$19)/($B$8*($B$10/1000)*$C$24*$D$24))","v":72.645443914852336},{"$f":"$E$24/($B$11*($B$12/100))","v":5444.4444444444443},{"$f":"$F$24/($B$11*($B$12/100))","v":363.22721957426165}]
["including relevant safety factor (10 for acute; 5 for repro)"]
[]
[]
[]
[]
["Endpoints mammals:"]
["LD50 acute",300,"mg/kg bw"]
["NOAEL reproductive",12,"mg/kg bw/d"]
[]
["Species",null,31,null,null,null,"Body weight (g)",{"$f":"OFFSET('species Seed Treatment 2'!$D$2,C34,0)","v":17.600000000000001},null,null,"Length of TWA period",21,"days"]
[]
[null,"DT50","Ftwa","Dehusking factor","No. of  seeds to reach endpoint",null,"Search area (m2)"]
[null,"days",null,null,"acute","repro","acute","repro"]
[]
["Granivorous mammal",9999,{"$f":"(1-EXP(-((LN(2)/B39)*$L$34)))/((LN(2)/B39)*$L$34)","v":0.99927247574780209},1,{"$f":"((($B$31/10)*$H$34)/($B$8*($B$9/1000)*$D$39))","v":23.466666666666665},{"$f":"((($B$32/5)*$H$34)/($B$8*($B$10/1000)*$C$39*$D$39))","v":2.0874445924920835},{"$f":"$E$39/($B$11*($B$12/100))","v":117.33333333333331},{"$f":"$F$39/($B$11*($B$12/100))","v":10.437222962460417}]
["including relevant safety factor (10 for acute; 5 for repro)"]

{"sheet":"species","index":6,"n_rows":37,"n_cols":6,"rows_kept":37,"cut":false,"hidden":true,"merged":[]}
["AE_gruppe","English name","Dansk navn","BW (g)","log a","b"]
[]
[3,"Bean goose","Sædgås",1622,0.83899999999999997,0.66900000000000004]
[3,"Pink-footed goose","Kortnæbbet gås",1622,0.83899999999999997,0.66900000000000004]
[5,"Grey partridge","Agerhøne",393,0.83899999999999997,0.66900000000000004]
[4,"Stock dove","Huldue",280,0.83899999999999997,0.66900000000000004]
[4,"Woodpigeon","Ringdue",490,0.83899999999999997,0.66900000000000004]
[5,"Common crane",null,5000,0.83899999999999997,0.66900000000000004]
[2,"Blue tit","Blåmejse",10.1,1.032,0.67600000000000005]
[2,"Bullfinch","Dompap",27,1.032,0.67600000000000005]
[2,"Chaffinch","Bogfinke",20.9,1.032,0.67600000000000005]
[2,"Common redstart","Rødstjert",14.6,1.032,0.67600000000000005]
[2,"Common treecreeper","Træløber",9.5,1.032,0.67600000000000005]
[2,"Goldcrest","Fuglekonge",5.5,1.032,0.67600000000000005]
[2,"Hawfinch","Kernebider",54,1.032,0.67600000000000005]
[2,"Linnet","Tornirisk",18.899999999999999,1.032,0.67600000000000005]
[2,"Ortolan bunting","Hortulan",19.899999999999999,1.032,0.67600000000000005]
[2,"Robin","Rødhals",17.7,1.032,0.67600000000000005]
[2,"Siskin","Grønsisken",13,1.032,0.67600000000000005]
[2,"Skylark","Sanglærke",33,1.032,0.67600000000000005]
[2,"Starling","Stær",83,1.032,0.67600000000000005]
[2,"Whinchat","Bynkefugl",16.600000000000001,1.032,0.67600000000000005]
[2,"White wagtail","Hvid vipstjert",21,1.032,0.67600000000000005]
[2,"Whitethroat","Tornsanger",15.1,1.032,0.67600000000000005]
[2,"Willow warbler","Løvsanger",8.6999999999999993,1.032,0.67600000000000005]
[2,"Wren","Gærdsmutte",8.9,1.032,0.67600000000000005]
[2,"Yellowhammer",null,29.7,1.032,0.67600000000000005]
[2,"Yellow wagtail","Gul vipstjert",16.600000000000001,1.032,0.67600000000000005]
[2,"Bullfinch",null,21.8,1.032,0.67600000000000005]
[1,"Brown hare","Hare",3429,0.81399999999999995,0.71499999999999997]
[1,"Common shrew","Almindelig spidsmus",7.4,0.81399999999999995,0.71499999999999997]
[1,"Field vole","Almindelig markmus",26.7,0.81399999999999995,0.71499999999999997]
[1,"Wood mouse","Skovmus",17.600000000000001,0.81399999999999995,0.71499999999999997]
[1,"Wild boar",null,75000,0.81399999999999995,0.71499999999999997]
[1,"Hazel dormouse",null,14.4,0.81399999999999995,0.71499999999999997]
[]
["Please do not make any changes to this sheet"]

{"sheet":"species Seed Treatment 2","index":7,"n_rows":37,"n_cols":6,"rows_kept":37,"cut":false,"hidden":true,"merged":[]}
["AE_gruppe","English name","Dansk navn","BW (g)","log a","b"]
[]
[3,"Bean goose","Sædgås",1622,0.83899999999999997,0.66900000000000004]
[3,"Pink-footed goose","Kortnæbbet gås",1622,0.83899999999999997,0.66900000000000004]
[]
[]
[4,"Woodpigeon","Ringdue",490,0.83899999999999997,0.66900000000000004]
[4,"Common crane",null,5000,0.83899999999999997,0.66900000000000004]
[]
[]
[]
[]
[]
[]
[]
[2,"Linnet","Tornirisk",18.899999999999999,1.032,0.67600000000000005]
[]
[]
[]
[2,"Skylark","Sanglærke",33,1.032,0.67600000000000005]
[]
[]
[]
[]
[]
[]
[]
[]
[]
[]
[]
[]
[1,"Wood mouse","Skovmus",17.600000000000001,0.81399999999999995,0.71499999999999997]
[1,"Wild boar",null,75000,0.81399999999999995,0.71499999999999997]
[]
[]
["Please do not make any changes to this sheet"]

{"sheet":"diets","index":8,"n_rows":34,"n_cols":10,"rows_kept":34,"cut":false,"hidden":true,"merged":[]}
["English name","Dansk navn","Mammal","Passerine","Duck & Geese","Pigeon","Fowl","Crane","FE","MC%"]
[null,"index",1,2,3,4,5,6]
["monocot leaves",null,0.47,0.76,0.41,0.53,0.42,null,17.600000000000001,76.400000000000006]
["maize foliage",null,0.47,0.76,0.41,0.53,0.42,null,17.600000000000001,76.400000000000006]
["dicot leaves",null,0.76,0.76,0.41,0.53,0.42,0.59,17.8,88.1]
["crop seeds",null,0.84,0.8,0.83,0.76,0.65,null,18.399999999999999,14.7]
["potato tubers or plant bulbs",null,0.74,0.67,null,null,0.56999999999999995,0.45,14.8,83.9]
["weed seeds",null,0.84,0.8,0.83,0.76,0.65,null,21.7,9.9]
["citrus fruit",null,0.74,0.67,null,null,0.56999999999999995,null,14.8,83.9]
["fruit from cucurbitaceous vegetable crops",null,0.74,0.67,null,null,0.56999999999999995,null,14.8,83.9]
["fruit from solanaceous vegetable crops",null,0.74,0.67,null,null,0.56999999999999995,null,14.8,83.9]
["pome fruit",null,0.74,0.67,null,null,0.56999999999999995,null,14.8,83.9]
["stone fruit",null,0.74,0.67,null,null,0.56999999999999995,null,14.8,83.9]
["fruit from small fruit crops",null,0.74,0.67,null,null,0.56999999999999995,null,14.8,83.9]
["strawberries",null,0.74,0.67,null,null,0.56999999999999995,null,14.8,83.9]
["figs",null,0.74,0.67,null,null,0.56999999999999995,null,14.8,83.9]
["flower buds",null,0.74,0.67,null,null,0,null,19.399999999999999,38.200000000000003]
["fruits from forests",null,0.74,0.67,null,null,0.56999999999999995,null,14.8,83.9]
["legume vegetables",null,0.74,0.67,null,null,0.56999999999999995,null,14.8,83.9]
["tree nuts and seeds",null,0.84,0.8,0.83,null,0.65,null,22.9,15]
["ground dwelling arthropods",null,0.87,0.76,0.87,null,0.7,null,22.7,68.8]
["foliar dwelling arthropods",null,0.87,0.76,0.87,null,0.7,null,22.7,68.8]
["soil invertebrates",null,0.87,0.76,0.87,null,0.7,null,19.399999999999999,84.3]
[]
["Fresh (wet) weight","Vådvægt"]
["Dry weight","Tørvægt"]
[]
[]
[]
["Standard (21 days)"]
["Application interval"]
[]
[]
["Please do not make any changes to this sheet"]

{"sheet":"PD Wood mouse","index":9,"n_rows":436,"n_cols":28,"rows_kept":436,"cut":false,"hidden":false,"merged":[]}
["Wood mouse PD - fresh weight"]
[]
["Spring cereals","April","May","June","June","July","July","August","August","August","Sept."]
["BBCH","0-9","10-29","30-39","40-69","40-69","70-89","70-89","Pre-harv.","Stubble","Stubble"]
[null,null,null,null,null,null,null,null,"desiccat.","treatm.","treatm."]
["monocot leaves",null,0.16,0.06,0.06,7.0000000000000007E-2,0.05,7.0000000000000007E-2,0.04,0.04,0.03]
["maize foliage"]
["dicot leaves",null,null,0.03,0.03,0.03,0.03,0.03,0.02,0.02,0.02]
["crop seeds",0.28999999999999998,0.3,0.32,0.32,0.32,0.48,0.37,0.39,0.39,0.34]
["potato tubers or plant bulbs"]
["weed seeds",null,0.04,0.25,0.25,0.21,0.16,0.2,0.21,0.21,0.21]
["citrus fruit"]
["fruit from cucurbitaceous vegetable crops"]
["fruit from solanaceous vegetable crops"]
["pome fruit"]
["stone fruit"]
["fruit from small fruit crops"]
["strawberries"]
["figs"]
["flower buds"]
["fruits from forests"]
["legume vegetables"]
["tree nuts and seeds"]
["ground dwelling arthropods",0.45,0.1,0.25,0.25,0.37,0.28000000000000003,0.28000000000000003,0.28999999999999998,0.28999999999999998,0.26]
["foliar dwelling arthropods"]
["soil invertebrates",0.26,0.4,0.09,0.09,null,null,0.05,0.05,0.05,0.14000000000000001]
["Sum",{"$f":"SUM(B6:B26)","v":1},1,1,1,1,1,1,1,1,1]
[]
[]
["Winter cereals","Sept.","Oct.","Sept.","Oct.","Nov.","March","April","May","May","June","May","June","July","July","August","July","August","August","Sept."]
["BBCH","0-9","0-9","10-19","10-19","10-19","10-19","10-29","10-29","30-39","30-39","40-59","40-69","60-69","70-89","70-89","Pre-harv.","Pre-harv.","Stubble","Stubble"]
[null,null,null,null,null,null,null,null,null,null,null,null,null,null,null,null,"desiccat.","desiccat.","treatm.","treatm."]
["monocot leaves",null,null,0.09,0.25,0.4,0.23,0.24,0.16,0.11,0.06,0.11,0.06,7.0000000000000007E-2,0.05,7.0000000000000007E-2,0.03,0.04,0.04,0.03]
["maize foliage"]
["dicot leaves",null,null,null,null,null,null,null,null,0.05,0.03,0.05,0.03,0.03,0.03,0.03,0.01,0.02,0.02,0.02]
["crop seeds",0.42,0.55000000000000004,0.33,0.3,0.4,0.25,0.05,0.3,0.3,0.32,0.3,0.32,0.32,0.48,0.37,0.5,0.39,0.39,0.34]
["potato tubers or plant bulbs"]
["weed seeds",0.2,0.15,0.2,0.15,0.08,null,null,0.04,0.04,0.25,0.04,0.25,0.21,0.16,0.2,0.17,0.21,0.21,0.21]
["citrus fruit"]
["fruit from cucurbitaceous vegetable crops"]
["fruit from solanaceous vegetable crops"]
["pome fruit"]
["stone fruit"]
["fruit from small fruit crops"]
["strawberries"]
["figs"]
["flower buds"]
["fruits from forests"]
["legume vegetables"]
["tree nuts and seeds"]
["ground dwelling arthropods",0.25,0.3,0.25,0.3,0.09,0.27,0.45,0.1,0.1,0.25,0.1,0.25,0.37,0.28000000000000003,0.28000000000000003,0.28999999999999998,0.28999999999999998,0.28999999999999998,0.26]
["foliar dwelling arthropods"]
["soil invertebrates",0.13,null,0.13,null,0.03,0.25,0.26,0.4,0.4,0.09,0.4,0.09,null,null,0.05,null,0.05,0.05,0.14000000000000001]
["Sum",{"$f":"SUM(B33:B53)","v":1},1,1,1,1,1,1,1,1,1,1,1,1,1,1,1,1,1,1]
[]
[]
["Winter cereals - Green (1979) alternative","Sept.","Sept.","Jan.-","April-","April-"]
[null,"-Dec.","-Dec.","March","June","June"]
["BBCH","0-9","10-19","10-19","14-39","40-69"]
["monocot leaves",null,null,0.08,0.01,0.01]
["maize foliage"]
["dicot leaves"]
["crop seeds",0.6,0.6,0.55000000000000004,0.06,0.06]
["potato tubers or plant bulbs"]
["weed seeds",0.24,0.24,0.05,0.8,0.8]
["citrus fruit"]
["fruit from cucurbitaceous vegetable crops"]
["fruit from solanaceous vegetable crops"]
["pome fruit"]
["stone fruit"]
["fruit from small fruit crops"]
["strawberries"]
["figs"]
["flower buds"]
["fruits from forests"]
["legume vegetables"]
["tree nuts and seeds"]
["ground dwelling arthropods",0.16,0.16,0.16,0.12,0.12]
["foliar dwelling arthropods"]
["soil invertebrates",null,null,0.16,0.01,0.01]
["Sum",{"$f":"SUM(B60:B80)","v":1},{"$f":"SUM(C60:C80)","v":1},{"$f":"SUM(D60:D80)","v":1},{"$f":"SUM(E60:E80)","v":1},{"$f":"SUM(F60:F80)","v":1}]
[]
[]
["Maize","April","May","May","June","June","July"]
["BBCH","0-9","0-9","10-19","10-19","30-39","30-39"]
[]
["monocot leaves",null,null,0.11,0.06,0.08,0.1]
["maize foliage",null,null,0.11,0.06]
["dicot leaves",null,null,null,null,0.04,0.05]
["crop seeds",0.28999999999999998,0.28999999999999998,0.05,0.05,0.05,0.05]
["potato tubers or plant bulbs"]
["weed seeds",null,0.05,0.05,0.35,0.35,0.28999999999999998]
["citrus fruit"]
["fruit from cucurbitaceous vegetable crops"]
["fruit from solanaceous vegetable crops"]
["pome fruit"]
["stone fruit"]
["fruit from small fruit crops"]
["strawberries"]
["figs"]
["flower buds"]
["fruits from forests"]
["legume vegetables"]
["tree nuts and seeds"]
["ground dwelling arthropods",0.45,0.13,0.14000000000000001,0.35,0.35,0.51]
["foliar dwelling arthropods"]
["soil invertebrates",0.26,0.53,0.54,0.13,0.13]
["Sum",{"$f":"SUM(B87:B107)","v":1},1,1,1,1,1]
[]
[]
["Spring oilseed rape","April","April","May","May","May","June","July","July","August","July","August","August","Sept."]
["BBCH","0-9","10-19","10-19","20-39","40-59","40-79","60-79","80-89","80-89","Pre-harv.","Pre-harv.","Stubble","Stubble"]
[null,null,null,null,null,null,null,null,null,null,"desiccat.","desiccat.","treatm.","treatm."]
["monocot leaves",null,null,null,7.0000000000000007E-2,7.0000000000000007E-2,0.04,0.05,0.05,0.05,0.02,0.02,0.02,0.02]
["maize foliage"]
["dicot leaves",null,0.24,0.22,0.15,0.15,0.08,0.1,0.09,0.09,0.05,0.05,0.05,0.04]
["crop seeds",0.12,0.05,0.05,0.05,0.05,0.05,0.05,0.05,0.05,0.05,0.05,0.05,0.05]
["potato tubers or plant bulbs"]
["weed seeds",null,null,0.05,0.05,0.05,0.35,0.28999999999999998,0.34,0.35,0.41,0.42,0.38,0.35]
["citrus fruit"]
["fruit from cucurbitaceous vegetable crops"]
["fruit from solanaceous vegetable crops"]
["pome fruit"]
["stone fruit"]
["fruit from small fruit crops"]
["strawberries"]
["figs"]
["flower buds"]
["fruits from forests"]
["legume vegetables"]
["tree nuts and seeds"]
["ground dwelling arthropods",0.56000000000000005,0.45,0.14000000000000001,0.14000000000000001,0.14000000000000001,0.35,0.51,0.47,0.39,0.47,0.39,0.42,0.35]
["foliar dwelling arthropods"]
["soil invertebrates",0.32,0.26,0.54,0.54,0.54,0.13,null,null,7.0000000000000007E-2,null,7.0000000000000007E-2,0.08,0.19]
["Sum",{"$f":"SUM(B114:B134)","v":1},1,1,1,1,1,1,1,1,1,1,0.99999999999999989,1]
[]
[]
["Winter oilseed rape","August","Sept.","Oct.","March","April","Oct.","Nov.","March","April","April","May","June","June","July","July","July","August"]
["BBCH","0-9","10-19","10-19","10-19","10-19","20-39","20-39","20-39","20-39","40-59","40-79","70-79","80-89","80-89","Pre-harv.","Stubble","Stubble"]
[null,null,null,null,null,null,null,null,null,null,null,null,null,null,null,"desiccat.","treatm.","treatm."]
["monocot leaves",null,null,null,null,null,0.11,0.21,0.09,0.08,0.08,7.0000000000000007E-2,0.04,0.04,0.05,0.02,0.02,0.02]
["maize foliage"]
["dicot leaves",null,0.13,0.34,0.27,0.24,0.23,0.42,0.18,0.16,0.16,0.15,0.08,0.08,0.09,0.05,0.05,0.05]
["crop seeds",0.46,0.05,0.05,0.05,0.05,0.05,0.05,0.05,0.05,0.05,0.05,0.05,0.05,0.05,0.05,0.05,0.05]
["potato tubers or plant bulbs"]
["weed seeds",null,0.28000000000000003,0.2,0.09,null,0.2,0.13,0.09,null,null,0.05,0.35,0.4,0.34,0.41,0.37,0.38]
["citrus fruit"]
["fruit from cucurbitaceous vegetable crops"]
["fruit from solanaceous vegetable crops"]
["pome fruit"]
["stone fruit"]
["fruit from small fruit crops"]
["strawberries"]
["figs"]
["flower buds"]
["fruits from forests"]
["legume vegetables"]
["tree nuts and seeds"]
["ground dwelling arthropods",0.46,0.36,0.41,0.31,0.45,0.41,0.14000000000000001,0.31,0.45,0.45,0.14000000000000001,0.35,0.32,0.47,0.47,0.51,0.42]
["foliar dwelling arthropods"]
["soil invertebrates",0.08,0.18,null,0.28000000000000003,0.26,null,0.05,0.28000000000000003,0.26,0.26,0.54,0.13,0.11,null,null,null,0.08]
["Sum",{"$f":"SUM(B141:B161)","v":1},1,1,1,1,1,1,1,1,1,1,1,1.0000000000000002,1,1,1,0.99999999999999989]
[]
[]
["Beets","April","May","June","June","July","August","Sept.","Oct."]
["BBCH","0-9","10-19","10-19","20-39","40-49","40-49","40-49","40-49"]
[]
["monocot leaves",null,null,null,0.04,0.05,0.05,0.04,0.11]
["maize foliage"]
["dicot leaves",null,0.22,0.12,0.08,0.1,0.1,0.09,0.23]
["crop seeds",0.12,0.05,0.05,0.05,0.05,0.05,0.05,0.05]
["potato tubers or plant bulbs"]
["weed seeds",null,0.05,0.35,0.35,0.28999999999999998,0.3,0.28000000000000003,0.2]
["citrus fruit"]
["fruit from cucurbitaceous vegetable crops"]
["fruit from solanaceous vegetable crops"]
["pome fruit"]
["stone fruit"]
["fruit from small fruit crops"]
["strawberries"]
["figs"]
["flower buds"]
["fruits from forests"]
["legume vegetables"]
["tree nuts and seeds"]
["ground dwelling arthropods",0.56000000000000005,0.14000000000000001,0.35,0.35,0.51,0.42,0.36,0.41]
["foliar dwelling arthropods"]
["soil invertebrates",0.32,0.54,0.13,0.13,null,0.08,0.18]
["Sum",{"$f":"SUM(B168:B188)","v":1},1,1,1,1,0.99999999999999989,1,1]
[]
[]
["Potatoes","April","May","June","July","August","August","Sept."]
["BBCH","0-9","10-19","20-39","40-89","45-89","90-99","90-99"]
[null,null,null,null,null,null,"(desiccat.)","(desiccat.)"]
["monocot leaves",null,0.06,0.03,0.04,0.04,0.02,0.02]
["maize foliage"]
["dicot leaves",null,0.06,0.03,0.04,0.04,0.02,0.02]
["crop seeds",0.05,0.05,0.05,0.05,0.05,0.05,0.05]
["potato tubers or plant bulbs"]
["weed seeds",null,0.06,0.37,0.32,0.33,0.34,0.32]
["citrus fruit"]
["fruit from cucurbitaceous vegetable crops"]
["fruit from solanaceous vegetable crops"]
["pome fruit"]
["stone fruit"]
["fruit from small fruit crops"]
["strawberries"]
["figs"]
["flower buds"]
["fruits from forests"]
["legume vegetables"]
["tree nuts and seeds"]
["ground dwelling arthropods",0.6,0.16,0.38,0.55000000000000004,0.46,0.48,0.39]
["foliar dwelling arthropods"]
["soil invertebrates",0.35,0.61,0.14000000000000001,null,0.08,0.09,0.2]
["Sum",{"$f":"SUM(B195:B215)","v":1},1,1,1,1,1,1]
[]
[]
["Pulses","April","May","May","June","May","June","June","July","August","July","August"]
["BBCH","0-9","0-9","10-19","10-19","20-39","20-39","40-79","40-79","60-79","80-99","80-99"]
[null,null,null,null,null,null,null,null,null,null,"(desiccat.)","(desiccat.)"]
["monocot leaves",null,null,null,null,7.0000000000000007E-2,0.04,0.04,0.05,0.05,0.02,0.03]
["maize foliage"]
["dicot leaves",null,null,0.22,0.12,0.15,0.08,0.08,0.1,0.1,0.05,0.05]
["crop seeds",0.28999999999999998,0.28999999999999998,0.05,0.05,0.05,0.05,0.05,0.05,0.05,0.1,0.1]
["potato tubers or plant bulbs"]
["weed seeds",null,0.05,0.05,0.35,0.05,0.35,0.35,0.28999999999999998,0.3,0.3,0.31]
["citrus fruit"]
["fruit from cucurbitaceous vegetable crops"]
["fruit from solanaceous vegetable crops"]
["pome fruit"]
["stone fruit"]
["fruit from small fruit crops"]
["strawberries"]
["figs"]
["flower buds"]
["fruits from forests"]
["legume vegetables"]
["tree nuts and seeds"]
["ground dwelling arthropods",0.45,0.13,0.14000000000000001,0.35,0.14000000000000001,0.35,0.35,0.51,0.42,0.53,0.43]
["foliar dwelling arthropods"]
["soil invertebrates",0.26,0.53,0.54,0.13,0.54,0.13,0.13,null,0.08,null,0.08]
["Sum",{"$f":"SUM(B222:B242)","v":1},1,1,1,1,1,1,1,0.99999999999999989,1,0.99999999999999989]
[]
[]
["Field grown vegetables","April","May","June","May","June","July","August","May","June","July","August","Sept.","May","June","July","August","Sept.","Oct."]
["BBCH","0-9","0-9","0-9","10-19","10-19","10-19","10-19","20-39","20-39","20-39","20-39","20-39","40-49","40-49","40-49","40-49","40-49","40-49"]
[]
["monocot leaves",null,null,null,null,null,null,null,7.0000000000000007E-2,0.04,0.05,0.05,0.04,7.0000000000000007E-2,0.04,0.05,0.05,0.04,0.11]
["maize foliage"]
["dicot leaves",null,null,null,0.22,0.12,0.15,0.15,0.15,0.08,0.1,0.1,0.09,0.15,0.08,0.1,0.1,0.09,0.23]
["crop seeds",0.08,0.13,0.33,0.05,0.05,0.05,0.05,0.05,0.05,0.05,0.05,0.05,0.05,0.05,0.05,0.05,0.05,0.05]
["potato tubers or plant bulbs"]
["weed seeds",null,null,null,0.05,0.35,0.28999999999999998,0.3,0.05,0.35,0.28999999999999998,0.3,0.28000000000000003,0.05,0.35,0.28999999999999998,0.3,0.28000000000000003,0.2]
["citrus fruit"]
["fruit from cucurbitaceous vegetable crops"]
["fruit from solanaceous vegetable crops"]
["pome fruit"]
["stone fruit"]
["fruit from small fruit crops"]
["strawberries"]
["figs"]
["flower buds"]
["fruits from forests"]
["legume vegetables"]
["tree nuts and seeds"]
["ground dwelling arthropods",0.57999999999999996,0.17,0.49,0.14000000000000001,0.35,0.51,0.42,0.14000000000000001,0.35,0.51,0.42,0.36,0.14000000000000001,0.35,0.51,0.42,0.36,0.41]
["foliar dwelling arthropods"]
["soil invertebrates",0.34,0.7,0.18,0.54,0.13,null,0.08,0.54,0.13,null,0.08,0.18,0.54,0.13,null,0.08,0.18]
["Sum",{"$f":"SUM(B249:B269)","v":1},1,1,1,1,1,0.99999999999999989,1,1,1,0.99999999999999989,1,1,1,1,0.99999999999999989,1,1]
[]
[]
["Strawberries","April","May","June","July","August","Sept.","Oct.","April","May","June","June","July","July","August","Sept.","Oct.","March","April","May","June","July","August","Sept.","Oct.","Nov."]
["Stage / BBCH","Planting",null,null,null,null,null,null,"Pre-flowering (20-59)",null,null,"Flowering and fruit",null,"Post-harvest",null,null,null,"Termination"]
[null,null,null,null,null,null,null,null,null,null,null,"development (60-89)"]
["monocot leaves",0.08,7.0000000000000007E-2,0.04,0.05,0.05,0.04,0.11,0.08,7.0000000000000007E-2,0.04,0.04,0.05,0.05,0.05,0.04,0.11,0.05,0.05,0.04,0.02,0.03,0.03,0.02,7.0000000000000007E-2,0.16]
["maize foliage"]
["dicot leaves",0.16,0.15,0.08,0.1,0.1,0.09,0.23,0.16,0.15,0.08,0.08,0.1,0.1,0.1,0.09,0.23,0.11,0.09,0.08,0.05,0.05,0.05,0.05,0.14000000000000001,0.32]
["crop seeds",0.05,0.05,0.05,0.05,0.05,0.05,0.05,0.05,0.05,0.05,0.05,0.05,0.05,0.05,0.05,0.05,0.05,0.05,0.05,0.05,0.05,0.05,0.05,0.05,0.05]
["potato tubers or plant bulbs"]
["weed seeds",null,0.05,0.35,0.28999999999999998,0.3,0.28000000000000003,0.2,null,0.05,0.35,0.35,0.28999999999999998,0.28999999999999998,0.3,0.28000000000000003,0.2,0.1,null,0.06,0.37,0.32,0.33,0.3,0.25,0.19]
["citrus fruit"]
["fruit from cucurbitaceous vegetable crops"]
["fruit from solanaceous vegetable crops"]
["pome fruit"]
["stone fruit"]
["fruit from small fruit crops"]
["strawberries"]
["figs"]
["flower buds"]
["fruits from forests"]
["legume vegetables"]
["tree nuts and seeds"]
["ground dwelling arthropods",0.45,0.14000000000000001,0.35,0.51,0.42,0.36,0.41,0.45,0.14000000000000001,0.35,0.35,0.51,0.51,0.42,0.36,0.41,0.36,0.51,0.16,0.37,0.55000000000000004,0.46,0.38,0.49,0.21]
["foliar dwelling arthropods"]
["soil invertebrates",0.26,0.54,0.13,null,0.08,0.18,null,0.26,0.54,0.13,0.13,null,null,0.08,0.18,null,0.33,0.3,0.61,0.14000000000000001,null,0.08,0.2,null,7.0000000000000007E-2]
["Sum",{"$f":"SUM(B276:B296)","v":1},1,1,1,0.99999999999999989,1,1,1,1,1,1,1,1,0.99999999999999989,1,1,1,1,1,1,1,1,1,1,1]
[]
[]
["Grassland in short rotation","March","April","May","June","July","August","Sept.","Oct.","Nov.","March","April","May","June","July","August","Sept.","Oct.","Nov.","March","April","May","June","July","August","Sept.","Oct.","Nov."]
["Stage","Short grass",null,null,null,null,null,null,null,null,"Medium & long grass",null,null,null,null,null,null,null,null,"Termination"]
[]
["monocot leaves",0.22,0.19,0.17,0.1,0.12,0.12,0.1,0.27,0.5,0.18,0.16,0.15,7.0000000000000007E-2,0.09,0.09,0.09,0.23,0.42,0.11,0.09,0.08,0.05,0.05,0.05,0.05,0.14000000000000001,0.32]
["maize foliage"]
["dicot leaves",0.05,0.05,0.04,0.02,0.03,0.03,0.03,7.0000000000000007E-2,0.13,0.09,0.08,7.0000000000000007E-2,0.04,0.04,0.04,0.04,0.11,0.21,0.05,0.05,0.04,0.02,0.03,0.03,0.02,7.0000000000000007E-2,0.16]
["crop seeds",0.05,0.05,0.05,0.05,0.05,0.05,0.05,0.05,0.05,0.05,0.05,0.05,0.05,0.05,0.05,0.05,0.05,0.05,0.05,0.05,0.05,0.05,0.05,0.05,0.05,0.05,0.05]
["potato tubers or plant bulbs"]
["weed seeds",0.09,null,0.06,0.35,0.28999999999999998,0.3,0.28000000000000003,0.2,0.13,0.09,null,0.05,0.44,0.38,0.39,0.28000000000000003,0.2,0.13,0.1,null,0.06,0.37,0.32,0.33,0.3,0.25,0.19]
["citrus fruit"]
["fruit from cucurbitaceous vegetable crops"]
["fruit from solanaceous vegetable crops"]
["pome fruit"]
["stone fruit"]
["fruit from small fruit crops"]
["strawberries"]
["figs"]
["flower buds"]
["fruits from forests"]
["legume vegetables"]
["tree nuts and seeds"]
["ground dwelling arthropods",0.31,0.45,0.14000000000000001,0.35,0.51,0.42,0.36,0.41,0.14000000000000001,0.31,0.45,0.14000000000000001,0.28999999999999998,0.44,0.36,0.36,0.41,0.14000000000000001,0.36,0.51,0.16,0.37,0.55000000000000004,0.46,0.38,0.49,0.21]
["foliar dwelling arthropods"]
["soil invertebrates",0.28000000000000003,0.26,0.54,0.13,null,0.08,0.18,null,0.05,0.28000000000000003,0.26,0.54,0.11,null,7.0000000000000007E-2,0.18,null,0.05,0.33,0.3,0.61,0.14000000000000001,null,0.08,0.2,null,7.0000000000000007E-2]
["Sum",{"$f":"SUM(B303:B323)","v":1},1,1,1,1,0.99999999999999989,1,1,1,1,1,1,1.0000000000000002,1,1,1,1,1,1,1,1,1,1,1,1,1,1]
[]
[]
["Permanent & perennial grass","March","Aug.","March","June","Sept.","March","June","Sept.","March","June","Sept."]
[null,"-May","-Oct.","-May","-Aug.","-Nov.","-May","-Aug.","-Nov.","-May","-Aug.","-Nov."]
["Stage","Sowing &",null,"Short grass",null,null,"Medium & long grass",null,null,"Termination"]
[null,"pre-emergence"]
["monocot leaves",null,null,0.72,0.46,0.51,0.72,0.46,0.51,0.59,0.31,0.36]
["maize foliage"]
["dicot leaves",null,null,0.05,0.08,0.08,0.05,0.08,0.08,0.04,0.06,0.06]
["crop seeds"]
["potato tubers or plant bulbs"]
["weed seeds",0.42,0.42,null,0.43,0.35,null,0.43,0.35,null,0.59,0.5]
["citrus fruit"]
["fruit from cucurbitaceous vegetable crops"]
["fruit from solanaceous vegetable crops"]
["pome fruit"]
["stone fruit"]
["fruit from small fruit crops"]
["strawberries"]
["figs"]
["flower buds"]
["fruits from forests"]
["legume vegetables"]
["tree nuts and seeds"]
["ground dwelling arthropods",0.33,0.39,0.13,0.01,0.05,0.13,0.01,0.05,0.21,0.01,7.0000000000000007E-2]
["foliar dwelling arthropods"]
["soil invertebrates",0.25,0.19,0.1,0.02,0.01,0.1,0.02,0.01,0.16,0.03,0.01]
["Sum",{"$f":"SUM(B331:B351)","v":1},1,1,1,1,1,1,1,1,1,1]
[]
[]
["Fruit trees (orchards)","March","June","Sept.","March","June","Sept."]
[null,"-May","-Aug.","-Nov.","-May","-Aug.","-Nov."]
["Application / Stage","Canopy directed (all stages)",null,null,"Ground directed (all stages)"]
[]
["monocot leaves",0.72,0.46,0.51,0.72,0.46,0.51]
["maize foliage"]
["dicot leaves",0.05,0.08,0.08,0.05,0.08,0.08]
["crop seeds"]
["potato tubers or plant bulbs"]
["weed seeds",null,0.43,0.35,null,0.43,0.35]
["citrus fruit"]
["fruit from cucurbitaceous vegetable crops"]
["fruit from solanaceous vegetable crops"]
["pome fruit"]
["stone fruit"]
["fruit from small fruit crops"]
["strawberries"]
["figs"]
["flower buds"]
["fruits from forests"]
["legume vegetables"]
["tree nuts and seeds"]
["ground dwelling arthropods",0.13,0.01,0.05,0.13,0.01,0.05]
["foliar dwelling arthropods"]
["soil invertebrates",0.1,0.02,0.01,0.1,0.02,0.01]
["Sum",{"$f":"SUM(B359:B379)","v":1},1,1,1,1,1]
[]
[]
["Bush berries","March","June","Sept.","March","June","Sept."]
[null,"-May","-Aug.","-Nov.","-May","-Aug.","-Nov."]
["Application / Stage","Canopy directed (all stages)",null,null,"Ground directed (all stages)"]
[]
["monocot leaves",0.72,0.46,0.51,0.72,0.46,0.51]
["maize foliage"]
["dicot leaves",0.05,0.08,0.08,0.05,0.08,0.08]
["crop seeds"]
["potato tubers or plant bulbs"]
["weed seeds",null,0.43,0.35,null,0.43,0.35]
["citrus fruit"]
["fruit from cucurbitaceous vegetable crops"]
["fruit from solanaceous vegetable crops"]
["pome fruit"]
["stone fruit"]
["fruit from small fruit crops"]
["strawberries"]
["figs"]
["flower buds"]
["fruits from forests"]
["legume vegetables"]
["tree nuts and seeds"]
["ground dwelling arthropods",0.13,0.01,0.05,0.13,0.01,0.05]
["foliar dwelling arthropods"]
["soil invertebrates",0.1,0.02,0.01,0.1,0.02,0.01]
["Sum",{"$f":"SUM(B387:B407)","v":1},1,1,1,1,1]
[]
[]
["Ornamentals and nursery","March","June","Sept.","March","June","Sept.","March","June","Sept.","March","June","Sept."]
[null,"-May","-Aug.","-Nov.","-May","-Aug.","-Nov.","-May","-Aug.","-Nov.","-May","-Aug.","-Nov."]
["Stage / Application","Pre-emergence",null,null,"Small plants",null,null,"Large plants, canopy directed",null,null,"Large plants, ground directed"]
[]
["monocot leaves",0.05,0.11,0.11,0.09,0.19,0.18,0.39,0.32,0.35,0.39,0.32,0.35]
["maize foliage"]
["dicot leaves",0.05,0.11,0.11,0.09,0.18,0.18,0.11,0.13,0.11,0.11,0.13,0.11]
["crop seeds"]
["potato tubers or plant bulbs"]
["weed seeds",null,0.6,0.47,null,0.49,0.38,null,0.48,0.4,null,0.48,0.4]
["citrus fruit"]
["fruit from cucurbitaceous vegetable crops"]
["fruit from solanaceous vegetable crops"]
["pome fruit"]
["stone fruit"]
["fruit from small fruit crops"]
["strawberries"]
["figs"]
["flower buds"]
["fruits from forests"]
["legume vegetables"]
["tree nuts and seeds"]
["ground dwelling arthropods",0.51,0.06,0.26,0.46,0.05,0.22,0.28000000000000003,0.02,0.12,0.28000000000000003,0.02,0.12]
["foliar dwelling arthropods"]
["soil invertebrates",0.39,0.12,0.05,0.36,0.09,0.04,0.22,0.05,0.02,0.22,0.05,0.02]
["Sum",{"$f":"SUM(B414:B435)","v":1},0.99999999999999989,1,1,1,1,1,1,1,1,1,1]

{"sheet":"PD Skylark","index":10,"n_rows":322,"n_cols":23,"rows_kept":322,"cut":false,"hidden":false,"merged":[]}
["Skylark PD - dry weight"]
[]
["Spring cereals","April","May","June","June","July","July","August","August","August","Sept."]
["BBCH","0-9","10-29","30-39","40-69","40-69","70-89","70-89","Pre-harv.","Stubble","Stubble"]
[null,null,null,null,null,null,null,null,"desiccat.","treatm.","treatm."]
["monocot leaves",null,0.38,0.17,0.17,0.13,0.1,0.01,0.01,0.01,0.01]
["maize foliage"]
["dicot leaves",null,null,0.14000000000000001,0.14000000000000001,0.06,0.05,0.05,0.02,0.02,0.01]
["crop seeds",0.46,0.11,0.06,0.06,0.06,0.27,0.56000000000000005,0.57999999999999996,0.57999999999999996,0.72]
["potato tubers or plant bulbs"]
["weed seeds",0.33,0.23,0.23,0.23,0.09,7.0000000000000007E-2,0.14000000000000001,0.14000000000000001,0.14000000000000001,0.13]
["citrus fruit"]
["fruit from cucurbitaceous vegetable crops"]
["fruit from solanaceous vegetable crops"]
["pome fruit"]
["stone fruit"]
["fruit from small fruit crops"]
["strawberries"]
["figs"]
["flower buds"]
["fruits from forests"]
["legume vegetables"]
["tree nuts and seeds"]
["ground dwelling arthropods",0.21,0.28000000000000003,0.3,0.2,0.33,0.26,0.12,0.19,0.25,0.13]
["foliar dwelling arthropods",null,null,0.1,0.2,0.33,0.25,0.12,0.06]
["soil invertebrates"]
["Sum",{"$f":"SUM(B6:B26)","v":1},{"$f":"SUM(C6:C26)","v":1},1.0000000000000002,1,1,1,1,1,1,1]
[]
[]
["Winter cereals","Sept.","Sept.","April","May","May","June","May","June","July","July","August","July","August","August","Sept."]
["BBCH","0-9","10-19","10-29","10-29","30-39","30-39","40-59","40-69","60-69","70-89","70-89","Pre-harv.","Pre-harv.","Stubble","Stubble"]
[null,null,null,null,null,null,null,null,null,null,null,null,"desiccat.","desiccat.","treatm.","treatm."]
["monocot leaves",null,0.03,0.46,0.4,0.25,0.17,0.25,0.17,0.13,0.1,0.01,0.05,null,0.01,0.01]
["maize foliage"]
["dicot leaves",null,null,null,null,0.15,0.14000000000000001,0.15,0.14000000000000001,0.06,0.05,0.05,0.03,0.03,0.02,0.01]
["crop seeds",0.74,0.71,0.06,0.06,0.06,0.06,0.06,0.06,0.06,0.27,0.56000000000000005,0.28999999999999998,0.57999999999999996,0.57999999999999996,0.72]
["potato tubers or plant bulbs"]
["weed seeds",0.13,0.13,0.28999999999999998,0.24,0.24,0.23,0.24,0.23,0.09,7.0000000000000007E-2,0.14000000000000001,0.08,0.14000000000000001,0.14000000000000001,0.13]
["citrus fruit"]
["fruit from cucurbitaceous vegetable crops"]
["fruit from solanaceous vegetable crops"]
["pome fruit"]
["stone fruit"]
["fruit from small fruit crops"]
["strawberries"]
["figs"]
["flower buds"]
["fruits from forests"]
["legume vegetables"]
["tree nuts and seeds"]
["ground dwelling arthropods",0.13,0.13,0.19,0.3,0.22,0.3,0.15,0.2,0.33,0.26,0.12,0.41,0.19,0.25,0.13]
["foliar dwelling arthropods",null,null,null,null,0.08,0.1,0.15,0.2,0.33,0.25,0.12,0.14000000000000001,0.06]
["soil invertebrates"]
["Sum",{"$f":"SUM(B33:B53)","v":1},1,1,1,0.99999999999999989,1.0000000000000002,1,1,1,1,1,1,1,1,1]
[]
[]
["Maize","April","May","May","June","June","July"]
["BBCH","0-9","0-9","10-19","10-19","30-39","30-39"]
[]
["monocot leaves",null,null,0.2,0.155,0.17,0.13]
["maize foliage",null,null,0.2,0.155]
["dicot leaves",null,null,null,null,0.14000000000000001,0.06]
["crop seeds",0.06,0.06,0.06,0.06,0.06,0.06]
["potato tubers or plant bulbs"]
["weed seeds",0.56999999999999995,0.42,0.24,0.23,0.23,0.09]
["citrus fruit"]
["fruit from cucurbitaceous vegetable crops"]
["fruit from solanaceous vegetable crops"]
["pome fruit"]
["stone fruit"]
["fruit from small fruit crops"]
["strawberries"]
["figs"]
["flower buds"]
["fruits from forests"]
["legume vegetables"]
["tree nuts and seeds"]
["ground dwelling arthropods",0.37,0.52,0.3,0.4,0.3,0.49]
["foliar dwelling arthropods",null,null,null,null,0.1,0.17]
["soil invertebrates"]
["Sum",{"$f":"SUM(B60:B80)","v":0.99999999999999989},1,1,1,1.0000000000000002,1]
[]
[]
["Spring oilseed rape","April","April","May","May","May","June","August","Sept."]
["BBCH","0-9","10-19","10-19","20-39","40-59","40-59","Stubble","Stubble"]
[null,null,null,null,null,null,null,"treatm.","treatm."]
["monocot leaves",null,null,null,0.15,0.15,0.09,0.01,0.01]
["maize foliage"]
["dicot leaves",null,0.46,0.4,0.17,0.17,0.16,0.04,0.02]
["crop seeds",0.06,0.06,0.06,0.06,0.06,0.06,0.06,0.06]
["potato tubers or plant bulbs"]
["weed seeds",0.56999999999999995,0.28999999999999998,0.24,0.28000000000000003,0.28000000000000003,0.25,0.48,0.61]
["citrus fruit"]
["fruit from cucurbitaceous vegetable crops"]
["fruit from solanaceous vegetable crops"]
["pome fruit"]
["stone fruit"]
["fruit from small fruit crops"]
["strawberries"]
["figs"]
["flower buds"]
["fruits from forests"]
["legume vegetables"]
["tree nuts and seeds"]
["ground dwelling arthropods",0.37,0.19,0.3,0.26,0.17,0.22,0.41,0.3]
["foliar dwelling arthropods",null,null,null,0.08,0.17,0.22]
["soil invertebrates"]
["Sum",{"$f":"SUM(B87:B107)","v":0.99999999999999989},1,1,1,1,1,1,1]
[]
[]
["Winter oil-seed rape","August","Sept.","April","April","April","May","July","August"]
["BBCH","0-9","10-19","10-19","20-39","40-59","40-59","Stubble","Stubble"]
[null,null,null,null,null,null,null,"treatm.","treatm."]
["monocot leaves",null,null,null,0.19,0.19,0.15,0.03,0.01]
["maize foliage"]
["dicot leaves",null,0.1,0.46,0.16,0.16,0.17,0.03,0.04]
["crop seeds",0.06,0.06,0.06,0.06,0.06,0.06,0.06,0.06]
["potato tubers or plant bulbs"]
["weed seeds",0.51,0.42,0.28999999999999998,0.36,0.36,0.28000000000000003,0.31,0.48]
["citrus fruit"]
["fruit from cucurbitaceous vegetable crops"]
["fruit from solanaceous vegetable crops"]
["pome fruit"]
["stone fruit"]
["fruit from small fruit crops"]
["strawberries"]
["figs"]
["flower buds"]
["fruits from forests"]
["legume vegetables"]
["tree nuts and seeds"]
["ground dwelling arthropods",0.43,0.42,0.19,0.17,0.12,0.17,0.56999999999999995,0.41]
["foliar dwelling arthropods",null,null,null,0.06,0.11,0.17]
["soil invertebrates"]
["Sum",{"$f":"SUM(B114:B134)","v":1},1,1,1,1,1,1,1]
[]
[]
["Beets","April","May","June","June","July","August","Sept."]
["BBCH","0-9","10-19","10-19","20-39","40-49","40-49","40-49"]
[]
["monocot leaves",null,null,null,0.09,7.0000000000000007E-2,0.01,0.02]
["maize foliage"]
["dicot leaves",null,0.63,0.31,0.16,7.0000000000000007E-2,0.11,7.0000000000000007E-2]
["crop seeds",0.06,null,0.06,0.06,0.06,0.06,0.06]
["potato tubers or plant bulbs"]
["weed seeds",0.56999999999999995,0.21,0.23,0.25,0.1,0.3,0.43]
["citrus fruit"]
["fruit from cucurbitaceous vegetable crops"]
["fruit from solanaceous vegetable crops"]
["pome fruit"]
["stone fruit"]
["fruit from small fruit crops"]
["strawberries"]
["figs"]
["flower buds"]
["fruits from forests"]
["legume vegetables"]
["tree nuts and seeds"]
["ground dwelling arthropods",0.37,0.16,0.4,0.33,0.35,0.26,0.21]
["foliar dwelling arthropods",null,null,null,0.11,0.35,0.26,0.21]
["soil invertebrates"]
["Sum",{"$f":"SUM(B141:B161)","v":0.99999999999999989},1,1,1.0000000000000002,1,1,1]
[]
[]
["Potatoes","April","May","June","July","August","August","Sept."]
["BBCH","0-9","10-19","20-39","40-89","45-89","90-99","90-99"]
[null,null,null,null,null,null,"(desiccat.)","(desiccat.)"]
["monocot leaves",null,0.16,0.1,7.0000000000000007E-2,0.01,0.01,0.01]
["maize foliage"]
["dicot leaves",null,0.09,0.08,0.03,0.05,0.03,0.02]
["crop seeds",0.06,0.06,0.06,0.06,0.06,0.06,0.06]
["potato tubers or plant bulbs"]
["weed seeds",0.56999999999999995,0.31,0.28000000000000003,0.1,0.32,0.33,0.46]
["citrus fruit"]
["fruit from cucurbitaceous vegetable crops"]
["fruit from solanaceous vegetable crops"]
["pome fruit"]
["stone fruit"]
["fruit from small fruit crops"]
["strawberries"]
["figs"]
["flower buds"]
["fruits from forests"]
["legume vegetables"]
["tree nuts and seeds"]
["ground dwelling arthropods",0.37,0.38,0.36,0.37,0.28000000000000003,0.43,0.34]
["foliar dwelling arthropods",null,null,0.12,0.37,0.28000000000000003,0.14000000000000001,0.11]
["soil invertebrates"]
["Sum",{"$f":"SUM(B168:B188)","v":0.99999999999999989},1,1,1,1,1,1.0000000000000002]
[]
[]
["Pulses","April","May","May","June","May","June","June","July","August","July","August"]
["BBCH","0-9","0-9","10-19","10-19","20-39","20-39","40-79","40-79","60-79","80-99","80-99"]
[null,null,null,null,null,null,null,null,null,null,"(desiccat.)","(desiccat.)"]
["monocot leaves",null,null,null,null,0.15,0.09,0.09,7.0000000000000007E-2,0.01,0.04,0.01]
["maize foliage"]
["dicot leaves",null,null,0.4,0.31,0.17,0.16,0.16,7.0000000000000007E-2,0.11,0.04,0.06]
["crop seeds",0.06,0.06,0.06,0.06,0.06,0.06,0.06,0.06,0.06,0.06,0.06]
["potato tubers or plant bulbs"]
["weed seeds",0.56999999999999995,0.42,0.24,0.23,0.28000000000000003,0.25,0.25,0.1,0.3,0.1,0.32]
["citrus fruit"]
["fruit from cucurbitaceous vegetable crops"]
["fruit from solanaceous vegetable crops"]
["pome fruit"]
["stone fruit"]
["fruit from small fruit crops"]
["strawberries"]
["figs"]
["flower buds"]
["fruits from forests"]
["legume vegetables"]
["tree nuts and seeds"]
["ground dwelling arthropods",0.37,0.52,0.3,0.4,0.26,0.33,0.22,0.35,0.26,0.56999999999999995,0.41]
["foliar dwelling arthropods",null,null,null,null,0.08,0.11,0.22,0.35,0.26,0.19,0.14000000000000001]
["soil invertebrates"]
["Sum",{"$f":"SUM(B195:B215)","v":0.99999999999999989},1,1,1,1,1.0000000000000002,1,1,1,1,1]
[]
[]
["Field grown vegetables","April","May","June","May","June","July","August","May","June","July","August","Sept.","May","June","July","August","Sept."]
["BBCH","0-9","0-9","0-9","10-19","10-19","10-19","10-19","20-39","20-39","20-39","20-39","20-39","40+","40+","40+","40+","40+"]
[]
["monocot leaves",null,null,null,null,null,null,null,0.15,0.09,7.0000000000000007E-2,0.01,0.02,0.15,0.09,7.0000000000000007E-2,0.01,0.02]
["maize foliage"]
["dicot leaves",null,null,null,0.4,0.31,0.19,0.13,0.17,0.16,7.0000000000000007E-2,0.11,7.0000000000000007E-2,0.17,0.16,7.0000000000000007E-2,0.11,7.0000000000000007E-2]
["crop seeds",0.06,0.06,0.06,0.06,0.06,0.06,0.06,0.06,0.06,0.06,0.06,0.06,0.06,0.06,0.06,0.06,0.06]
["potato tubers or plant bulbs"]
["weed seeds",0.56999999999999995,0.42,0.34,0.24,0.23,0.09,0.3,0.28000000000000003,0.25,0.1,0.3,0.43,0.28000000000000003,0.25,0.1,0.3,0.43]
["citrus fruit"]
["fruit from cucurbitaceous vegetable crops"]
["fruit from solanaceous vegetable crops"]
["pome fruit"]
["stone fruit"]
["fruit from small fruit crops"]
["strawberries"]
["figs"]
["flower buds"]
["fruits from forests"]
["legume vegetables"]
["tree nuts and seeds"]
["ground dwelling arthropods",0.37,0.52,0.6,0.3,0.4,0.66,0.51,0.17,0.22,0.35,0.26,0.21,0.17,0.22,0.35,0.26,0.21]
["foliar dwelling arthropods",null,null,null,null,null,null,null,0.17,0.22,0.35,0.26,0.21,0.17,0.22,0.35,0.26,0.21]
["soil invertebrates"]
["Sum",{"$f":"SUM(B222:B242)","v":0.99999999999999989},1,1,1,1,1,1,1,1,1,1,1,1,1,1,1,1]
[]
[]
["Strawberries","April","May","June","July","August","Sept.","April","May","June","June","July","July","August","Sept.","April","May","June","July","August","Sept."]
["Stage / BBCH","Planting",null,null,null,null,null,"Pre-flowering (20-59)",null,null,"Flowering and fruit",null,"Post-harvest",null,null,"Termination"]
[null,null,null,null,null,null,null,null,null,null,"development (60-89)"]
["monocot leaves",0.19,0.15,0.09,7.0000000000000007E-2,0.01,0.02,0.2,0.15,0.09,0.09,7.0000000000000007E-2,7.0000000000000007E-2,0.01,0.02,0.12,0.09,0.05,0.04,0.01,0.01]
["maize foliage"]
["dicot leaves",0.16,0.17,0.16,7.0000000000000007E-2,0.11,0.06,0.16,0.17,0.16,0.16,7.0000000000000007E-2,7.0000000000000007E-2,0.11,7.0000000000000007E-2,0.1,0.1,0.09,0.04,0.06,0.03]
["crop seeds",0.06,0.06,0.06,0.06,0.06,0.06,0.06,0.06,0.06,0.06,0.06,0.06,0.06,0.06,0.06,0.06,0.06,0.06,0.06,0.06]
["potato tubers or plant bulbs"]
["weed seeds",0.36,0.28000000000000003,0.25,0.1,0.3,0.43,0.36,0.28000000000000003,0.25,0.25,0.1,0.1,0.3,0.43,0.44,0.34,0.28999999999999998,0.1,0.32,0.45]
["citrus fruit"]
["fruit from cucurbitaceous vegetable crops"]
["fruit from solanaceous vegetable crops"]
["pome fruit"]
["stone fruit"]
["fruit from small fruit crops"]
["strawberries"]
["figs"]
["flower buds"]
["fruits from forests"]
["legume vegetables"]
["tree nuts and seeds"]
["ground dwelling arthropods",0.23,0.34,0.44,0.7,0.52,0.43,0.11,0.17,0.22,0.22,0.35,0.35,0.26,0.21,0.21,0.31,0.38,0.56999999999999995,0.41,0.34]
["foliar dwelling arthropods",null,null,null,null,null,null,0.11,0.17,0.22,0.22,0.35,0.35,0.26,0.21,7.0000000000000007E-2,0.1,0.13,0.19,0.14000000000000001,0.11]
["soil invertebrates"]
["Sum",{"$f":"SUM(B249:B269)","v":1},1,1,1,1,1,1,1,1,1,1,1,1,1,1,1.0000000000000002,1,1,1,1.0000000000000002]
[]
[]
["Rotational grass (seed grass, leys)","April","May","June","July","August","Sept.","April","May","June","July","August","Sept.","April","May","June","July","August","Sept."]
["Stage","Short grass",null,null,null,null,null,"Medium & long grass",null,null,null,null,null,"Termination"]
["monocot leaves",0.35,0.28000000000000003,0.18,0.13,0.02,0.03,0.21,0.16,0.1,7.0000000000000007E-2,0.01,0.02,0.22,0.17,0.11,7.0000000000000007E-2,0.01,0.02]
["maize foliage"]
["dicot leaves",7.0000000000000007E-2,0.08,0.08,0.03,0.06,0.03,0.09,0.09,0.08,0.03,0.06,0.03,0.05,0.05,0.04,0.02,0.03,0.02]
["crop seeds",0.06,0.06,0.06,0.06,0.06,0.06,0.06,0.06,0.06,0.06,0.06,0.06,0.06,0.06,0.06,0.06,0.06,0.06]
["potato tubers or plant bulbs"]
["weed seeds",0.32,0.26,0.25,0.1,0.32,0.44,0.39,0.31,0.28000000000000003,0.1,0.32,0.45,0.41,0.32,0.28999999999999998,0.1,0.33,0.45]
["citrus fruit"]
["fruit from cucurbitaceous vegetable crops"]
["fruit from solanaceous vegetable crops"]
["pome fruit"]
["stone fruit"]
["fruit from small fruit crops"]
["strawberries"]
["figs"]
["flower buds"]
["fruits from forests"]
["legume vegetables"]
["tree nuts and seeds"]
["ground dwelling arthropods",0.2,0.32,0.43,0.68,0.54,0.44,0.13,0.19,0.24,0.37,0.28000000000000003,0.22,0.2,0.3,0.38,0.56000000000000005,0.43,0.34]
["foliar dwelling arthropods",null,null,null,null,null,null,0.12,0.19,0.24,0.37,0.27,0.22,0.06,0.1,0.12,0.19,0.14000000000000001,0.11]
["soil invertebrates"]
["Sum",{"$f":"SUM(B275:B295)","v":1},1,1,1,1,1,1,1,1,1,1,1,1,1.0000000000000002,1,1,1,1.0000000000000002]
[]
[]
["Non-rotational grass (turf, pasture)","April","May","August","Sept.","April","May","June","July","August","Sept.","April","May","June","July","August","Sept.","April","May","June","July","August","Sept."]
["Stage","Sowing & pre-emergence",null,null,null,"Short grass",null,null,null,null,null,"Medium & long grass",null,null,null,null,null,"Termination"]
["monocot leaves",null,null,null,null,0.37,0.28999999999999998,0.2,0.14000000000000001,0.02,0.04,0.23,0.17,0.11,7.0000000000000007E-2,0.02,0.02,0.24,0.18,0.11,0.08,0.01,0.02]
["maize foliage"]
["dicot leaves",null,null,null,null,0.08,0.09,0.08,0.04,0.06,0.04,0.09,0.1,0.09,0.04,0.06,0.04,0.05,0.05,0.05,0.02,0.03,0.02]
["crop seeds"]
["potato tubers or plant bulbs"]
["weed seeds",0.61,0.45,0.37,0.5,0.34,0.28000000000000003,0.26,0.1,0.34,0.46,0.42,0.33,0.28999999999999998,0.11,0.34,0.47,0.43,0.35,0.31,0.11,0.35,0.48]
["citrus fruit"]
["fruit from cucurbitaceous vegetable crops"]
["fruit from solanaceous vegetable crops"]
["pome fruit"]
["stone fruit"]
["fruit from small fruit crops"]
["strawberries"]
["figs"]
["flower buds"]
["fruits from forests"]
["legume vegetables"]
["tree nuts and seeds"]
["ground dwelling arthropods",0.39,0.55000000000000004,0.63,0.5,0.21,0.34,0.46,0.72,0.57999999999999996,0.46,0.13,0.2,0.26,0.39,0.28999999999999998,0.24,0.21,0.32,0.4,0.59,0.46,0.36]
["foliar dwelling arthropods",null,null,null,null,null,null,null,null,null,null,0.13,0.2,0.25,0.39,0.28999999999999998,0.23,7.0000000000000007E-2,0.1,0.13,0.2,0.15,0.12]
["soil invertebrates"]
["Sum",{"$f":"SUM(B301:B321)","v":1},1,1,1,1,1,1,1,1,1,1,1,1,1,1,1,1,0.99999999999999989,1,1,1,1]